{"text_format":"1","workbook":"xlsx","n_sheets":3,"sheets":["Paired Plot Comparison","Unpaired Plot Comparison","Dropdown Selections"],"not_rendered":{"charts":2,"images":0,"macros":1,"external_links":0,"defined_names":0,"comments":0,"pivot_tables":0},"unopened":[],"bounds":{"document_bytes":16777216,"sheet_cells":100000,"rows_first":2000,"rows_last":500,"rows_between":2000,"halvings":0,"cell_chars":16384,"cell_head_chars":4096},"cells_cut":0,"cells_raw":0,"read":"whole","date_system":"1900"}

{"sheet":"Paired Plot Comparison","index":0,"n_rows":112,"n_cols":16,"rows_kept":112,"cut":false,"hidden":false,"merged":[[0,0,0,7],[111,0,111,7],[1,0,1,7]]}
["Sequential Sampling Worksheet for Verification Inventory where Project Plots are Monumented ",null,null,null,null,null,null,null,"D0:",{"$f":"'Paired Plot Comparison'!B3","v":0},"Allowance:",0.1,"Zalpha:",1.645]
["(Paired Plot Comparison)"]
["Project/Stratum Mean (metric tons CO2e/acre):",0,null,null,null,null,null,null,"D1:",{"$f":"L1*'Paired Plot Comparison'!B3+J1","v":0},"Alpha:",0.05,"Zbeta:",0.84160000000000001]
["Number of Strata Verified:",1,null,null,null,null,null,null,null,null,"Beta:",0.2,"K:",{"$f":"ABS(($N$1*$J$6+$N$3*$J$5)/($N$1+$N$3))","v":0}]
["Project Acreage:","<100",null,null,null,null,null,null,"Mean_Diff0:",{"$f":"J1-'Paired Plot Comparison'!B3","v":0}]
["Minimum Number of Passing Plots Needed in Sequence:",{"$f":"plotnumber(B4, B5)","v":8},null,null,null,null,null,null,"Mean_Diff1:",{"$f":"J3-J1","v":0}]
[]
[]
[]
["Plot Pair (n)","Project Plot Number","Project CO2e estimate\n(metric tons/acre)","Verification CO2e estimate\n(metric tons/acre)","Running Mean","Running Examination/Plot Success","Number of Passing Plots in Sequence","Status of Verification","Y(n)","-K","K","Running SD","n_ Threshold"]
[1,null,null,null,{"$f":"'Paired Plot Comparison'!N14","v":0},{"$f":"IF('Paired Plot Comparison'!I11<>\"\",IF(ABS((C11-D11))<('Paired Plot Comparison'!L1*D11),\"Pass(H0)\",\"Inconclusive(H1)\"),\"\")","v":""},{"$f":"IF('Paired Plot Comparison'!I11<>\"\",IF(F11=\"Pass(H0)\",1,0),\"\")","v":""},{"$f":"IF('Paired Plot Comparison'!I11<>\"\",IF(G11>=$B$6,\"Verification Successful\", \"Verification not Satisfied\"),\"\")","v":""},{"$f":"IF('Paired Plot Comparison'!C11<>\"\",IF('Paired Plot Comparison'!D11<>\"\",'Paired Plot Comparison'!C11-'Paired Plot Comparison'!D11,\"\"),\"\")","v":""},{"$f":"-$N$4","v":0},{"$f":"$N$4","v":0},null,null,"Max",250,210]
[2,null,null,null,{"$f":"IF('Paired Plot Comparison'!I12<>\"\",AVERAGE('Paired Plot Comparison'!$I$11:I12),\"\")","v":""},{"$f":"IF('Paired Plot Comparison'!I12<>\"\",IF(A12>'Paired Plot Comparison'!M12,IF('Paired Plot Comparison'!E12>'Paired Plot Comparison'!$N$4,\"Inconclusive(H1)\",IF('Paired Plot Comparison'!E12<-'Paired Plot Comparison'!$N$4,\"Inconclusive(H1)\", \"Pass(H0)\")),\"Inconclusive\"),\"\")","v":""},{"$f":"IF('Paired Plot Comparison'!I12<>\"\",IF(F12=\"Pass(H0)\",1+G11,0),\"\")","v":""},{"$f":"IF('Paired Plot Comparison'!I12<>\"\",IF(G12>=$B$6,\"Verification Successful\", \"Verification not Satisfied\"),\"\")","v":""},{"$f":"IF('Paired Plot Comparison'!C12<>\"\",IF('Paired Plot Comparison'!D12<>\"\",'Paired Plot Comparison'!C12-'Paired Plot Comparison'!D12,\"\"),\"\")","v":""},0,0,{"$f":"IF(I12<>\"\",STDEV($I$11:I12),\"\")","v":""},{"$f":"IF(I12<>\"\",(($N$1+$N$3)^2*L12^2)/($L$1*'Paired Plot Comparison'!$B$3)^2,\"\")","v":""},"Min",150,190]
[3,null,null,null,{"$f":"IF('Paired Plot Comparison'!I13<>\"\",AVERAGE('Paired Plot Comparison'!$I$11:I13),\"\")","v":""},{"$f":"IF('Paired Plot Comparison'!I13<>\"\",IF(A13>'Paired Plot Comparison'!M13,IF('Paired Plot Comparison'!E13>'Paired Plot Comparison'!$N$4,\"Inconclusive(H1)\",IF('Paired Plot Comparison'!E13<-'Paired Plot Comparison'!$N$4,\"Inconclusive(H1)\", \"Pass(H0)\")),\"Inconclusive\"),\"\")","v":""},{"$f":"IF('Paired Plot Comparison'!I13<>\"\",IF(F13=\"Pass(H0)\",1+G12,0),\"\")","v":""},{"$f":"IF('Paired Plot Comparison'!I13<>\"\",IF(G13>=$B$6,\"Verification Successful\", \"Verification not Satisfied\"),\"\")","v":""},{"$f":"IF('Paired Plot Comparison'!C13<>\"\",IF('Paired Plot Comparison'!D13<>\"\",'Paired Plot Comparison'!C13-'Paired Plot Comparison'!D13,\"\"),\"\")","v":""},0,0,{"$f":"IF(I13<>\"\",STDEV($I$11:I13),\"\")","v":""},{"$f":"IF(I13<>\"\",(($N$1+$N$3)^2*L13^2)/($L$1*'Paired Plot Comparison'!$B$3)^2,\"\")","v":""}]
[4,null,null,null,{"$f":"IF('Paired Plot Comparison'!I14<>\"\",AVERAGE('Paired Plot Comparison'!$I$11:I14),\"\")","v":""},{"$f":"IF('Paired Plot Comparison'!I14<>\"\",IF(A14>'Paired Plot Comparison'!M14,IF('Paired Plot Comparison'!E14>'Paired Plot Comparison'!$N$4,\"Inconclusive(H1)\",IF('Paired Plot Comparison'!E14<-'Paired Plot Comparison'!$N$4,\"Inconclusive(H1)\", \"Pass(H0)\")),\"Inconclusive\"),\"\")","v":""},{"$f":"IF('Paired Plot Comparison'!I14<>\"\",IF(F14=\"Pass(H0)\",1+G13,0),\"\")","v":""},{"$f":"IF('Paired Plot Comparison'!I14<>\"\",IF(G14>=$B$6,\"Verification Successful\", \"Verification not Satisfied\"),\"\")","v":""},{"$f":"IF('Paired Plot Comparison'!C14<>\"\",IF('Paired Plot Comparison'!D14<>\"\",'Paired Plot Comparison'!C14-'Paired Plot Comparison'!D14,\"\"),\"\")","v":""},0,0,{"$f":"IF(I14<>\"\",STDEV($I$11:I14),\"\")","v":""},{"$f":"IF(I14<>\"\",(($N$1+$N$3)^2*L14^2)/($L$1*'Paired Plot Comparison'!$B$3)^2,\"\")","v":""}]
[5,null,null,null,{"$f":"IF('Paired Plot Comparison'!I15<>\"\",AVERAGE('Paired Plot Comparison'!$I$11:I15),\"\")","v":""},{"$f":"IF('Paired Plot Comparison'!I15<>\"\",IF(A15>'Paired Plot Comparison'!M15,IF('Paired Plot Comparison'!E15>'Paired Plot Comparison'!$N$4,\"Inconclusive(H1)\",IF('Paired Plot Comparison'!E15<-'Paired Plot Comparison'!$N$4,\"Inconclusive(H1)\", \"Pass(H0)\")),\"Inconclusive\"),\"\")","v":""},{"$f":"IF('Paired Plot Comparison'!I15<>\"\",IF(F15=\"Pass(H0)\",1+G14,0),\"\")","v":""},{"$f":"IF('Paired Plot Comparison'!I15<>\"\",IF(G15>=$B$6,\"Verification Successful\", \"Verification not Satisfied\"),\"\")","v":""},{"$f":"IF('Paired Plot Comparison'!C15<>\"\",IF('Paired Plot Comparison'!D15<>\"\",'Paired Plot Comparison'!C15-'Paired Plot Comparison'!D15,\"\"),\"\")","v":""},0,0,{"$f":"IF(I15<>\"\",STDEV($I$11:I15),\"\")","v":""},{"$f":"IF(I15<>\"\",(($N$1+$N$3)^2*L15^2)/($L$1*'Paired Plot Comparison'!$B$3)^2,\"\")","v":""}]
[6,null,null,null,{"$f":"IF('Paired Plot Comparison'!I16<>\"\",AVERAGE('Paired Plot Comparison'!$I$11:I16),\"\")","v":""},{"$f":"IF('Paired Plot Comparison'!I16<>\"\",IF(A16>'Paired Plot Comparison'!M16,IF('Paired Plot Comparison'!E16>'Paired Plot Comparison'!$N$4,\"Inconclusive(H1)\",IF('Paired Plot Comparison'!E16<-'Paired Plot Comparison'!$N$4,\"Inconclusive(H1)\", \"Pass(H0)\")),\"Inconclusive\"),\"\")","v":""},{"$f":"IF('Paired Plot Comparison'!I16<>\"\",IF(F16=\"Pass(H0)\",1+G15,0),\"\")","v":""},{"$f":"IF('Paired Plot Comparison'!I16<>\"\",IF(G16>=$B$6,\"Verification Successful\", \"Verification not Satisfied\"),\"\")","v":""},{"$f":"IF('Paired Plot Comparison'!C16<>\"\",IF('Paired Plot Comparison'!D16<>\"\",'Paired Plot Comparison'!C16-'Paired Plot Comparison'!D16,\"\"),\"\")","v":""},0,0,{"$f":"IF(I16<>\"\",STDEV($I$11:I16),\"\")","v":""},{"$f":"IF(I16<>\"\",(($N$1+$N$3)^2*L16^2)/($L$1*'Paired Plot Comparison'!$B$3)^2,\"\")","v":""}]
[7,null,null,null,{"$f":"IF('Paired Plot Comparison'!I17<>\"\",AVERAGE('Paired Plot Comparison'!$I$11:I17),\"\")","v":""},{"$f":"IF('Paired Plot Comparison'!I17<>\"\",IF(A17>'Paired Plot Comparison'!M17,IF('Paired Plot Comparison'!E17>'Paired Plot Comparison'!$N$4,\"Inconclusive(H1)\",IF('Paired Plot Comparison'!E17<-'Paired Plot Comparison'!$N$4,\"Inconclusive(H1)\", \"Pass(H0)\")),\"Inconclusive\"),\"\")","v":""},{"$f":"IF('Paired Plot Comparison'!I17<>\"\",IF(F17=\"Pass(H0)\",1+G16,0),\"\")","v":""},{"$f":"IF('Paired Plot Comparison'!I17<>\"\",IF(G17>=$B$6,\"Verification Successful\", \"Verification not Satisfied\"),\"\")","v":""},{"$f":"IF('Paired Plot Comparison'!C17<>\"\",IF('Paired Plot Comparison'!D17<>\"\",'Paired Plot Comparison'!C17-'Paired Plot Comparison'!D17,\"\"),\"\")","v":""},0,0,{"$f":"IF(I17<>\"\",STDEV($I$11:I17),\"\")","v":""},{"$f":"IF(I17<>\"\",(($N$1+$N$3)^2*L17^2)/($L$1*'Paired Plot Comparison'!$B$3)^2,\"\")","v":""}]
[8,null,null,null,{"$f":"IF('Paired Plot Comparison'!I18<>\"\",AVERAGE('Paired Plot Comparison'!$I$11:I18),\"\")","v":""},{"$f":"IF('Paired Plot Comparison'!I18<>\"\",IF(A18>'Paired Plot Comparison'!M18,IF('Paired Plot Comparison'!E18>'Paired Plot Comparison'!$N$4,\"Inconclusive(H1)\",IF('Paired Plot Comparison'!E18<-'Paired Plot Comparison'!$N$4,\"Inconclusive(H1)\", \"Pass(H0)\")),\"Inconclusive\"),\"\")","v":""},{"$f":"IF('Paired Plot Comparison'!I18<>\"\",IF(F18=\"Pass(H0)\",1+G17,0),\"\")","v":""},{"$f":"IF('Paired Plot Comparison'!I18<>\"\",IF(G18>=$B$6,\"Verification Successful\", \"Verification not Satisfied\"),\"\")","v":""},{"$f":"IF('Paired Plot Comparison'!C18<>\"\",IF('Paired Plot Comparison'!D18<>\"\",'Paired Plot Comparison'!C18-'Paired Plot Comparison'!D18,\"\"),\"\")","v":""},0,0,{"$f":"IF(I18<>\"\",STDEV($I$11:I18),\"\")","v":""},{"$f":"IF(I18<>\"\",(($N$1+$N$3)^2*L18^2)/($L$1*'Paired Plot Comparison'!$B$3)^2,\"\")","v":""}]
[9,null,null,null,{"$f":"IF('Paired Plot Comparison'!I19<>\"\",AVERAGE('Paired Plot Comparison'!$I$11:I19),\"\")","v":""},{"$f":"IF('Paired Plot Comparison'!I19<>\"\",IF(A19>'Paired Plot Comparison'!M19,IF('Paired Plot Comparison'!E19>'Paired Plot Comparison'!$N$4,\"Inconclusive(H1)\",IF('Paired Plot Comparison'!E19<-'Paired Plot Comparison'!$N$4,\"Inconclusive(H1)\", \"Pass(H0)\")),\"Inconclusive\"),\"\")","v":""},{"$f":"IF('Paired Plot Comparison'!I19<>\"\",IF(F19=\"Pass(H0)\",1+G18,0),\"\")","v":""},{"$f":"IF('Paired Plot Comparison'!I19<>\"\",IF(G19>=$B$6,\"Verification Successful\", \"Verification not Satisfied\"),\"\")","v":""},{"$f":"IF('Paired Plot Comparison'!C19<>\"\",IF('Paired Plot Comparison'!D19<>\"\",'Paired Plot Comparison'!C19-'Paired Plot Comparison'!D19,\"\"),\"\")","v":""},0,0,{"$f":"IF(I19<>\"\",STDEV($I$11:I19),\"\")","v":""},{"$f":"IF(I19<>\"\",(($N$1+$N$3)^2*L19^2)/($L$1*'Paired Plot Comparison'!$B$3)^2,\"\")","v":""}]
[10,null,null,null,{"$f":"IF('Paired Plot Comparison'!I20<>\"\",AVERAGE('Paired Plot Comparison'!$I$11:I20),\"\")","v":""},{"$f":"IF('Paired Plot Comparison'!I20<>\"\",IF(A20>'Paired Plot Comparison'!M20,IF('Paired Plot Comparison'!E20>'Paired Plot Comparison'!$N$4,\"Inconclusive(H1)\",IF('Paired Plot Comparison'!E20<-'Paired Plot Comparison'!$N$4,\"Inconclusive(H1)\", \"Pass(H0)\")),\"Inconclusive\"),\"\")","v":""},{"$f":"IF('Paired Plot Comparison'!I20<>\"\",IF(F20=\"Pass(H0)\",1+G19,0),\"\")","v":""},{"$f":"IF('Paired Plot Comparison'!I20<>\"\",IF(G20>=$B$6,\"Verification Successful\", \"Verification not Satisfied\"),\"\")","v":""},{"$f":"IF('Paired Plot Comparison'!C20<>\"\",IF('Paired Plot Comparison'!D20<>\"\",'Paired Plot Comparison'!C20-'Paired Plot Comparison'!D20,\"\"),\"\")","v":""},0,0,{"$f":"IF(I20<>\"\",STDEV($I$11:I20),\"\")","v":""},{"$f":"IF(I20<>\"\",(($N$1+$N$3)^2*L20^2)/($L$1*'Paired Plot Comparison'!$B$3)^2,\"\")","v":""}]
[11,null,null,null,{"$f":"IF('Paired Plot Comparison'!I21<>\"\",AVERAGE('Paired Plot Comparison'!$I$11:I21),\"\")","v":""},{"$f":"IF('Paired Plot Comparison'!I21<>\"\",IF(A21>'Paired Plot Comparison'!M21,IF('Paired Plot Comparison'!E21>'Paired Plot Comparison'!$N$4,\"Inconclusive(H1)\",IF('Paired Plot Comparison'!E21<-'Paired Plot Comparison'!$N$4,\"Inconclusive(H1)\", \"Pass(H0)\")),\"Inconclusive\"),\"\")","v":""},{"$f":"IF('Paired Plot Comparison'!I21<>\"\",IF(F21=\"Pass(H0)\",1+G20,0),\"\")","v":""},{"$f":"IF('Paired Plot Comparison'!I21<>\"\",IF(G21>=$B$6,\"Verification Successful\", \"Verification not Satisfied\"),\"\")","v":""},{"$f":"IF('Paired Plot Comparison'!C21<>\"\",IF('Paired Plot Comparison'!D21<>\"\",'Paired Plot Comparison'!C21-'Paired Plot Comparison'!D21,\"\"),\"\")","v":""},0,0,{"$f":"IF(I21<>\"\",STDEV($I$11:I21),\"\")","v":""},{"$f":"IF(I21<>\"\",(($N$1+$N$3)^2*L21^2)/($L$1*'Paired Plot Comparison'!$B$3)^2,\"\")","v":""}]
[12,null,null,null,{"$f":"IF('Paired Plot Comparison'!I22<>\"\",AVERAGE('Paired Plot Comparison'!$I$11:I22),\"\")","v":""},{"$f":"IF('Paired Plot Comparison'!I22<>\"\",IF(A22>'Paired Plot Comparison'!M22,IF('Paired Plot Comparison'!E22>'Paired Plot Comparison'!$N$4,\"Inconclusive(H1)\",IF('Paired Plot Comparison'!E22<-'Paired Plot Comparison'!$N$4,\"Inconclusive(H1)\", \"Pass(H0)\")),\"Inconclusive\"),\"\")","v":""},{"$f":"IF('Paired Plot Comparison'!I22<>\"\",IF(F22=\"Pass(H0)\",1+G21,0),\"\")","v":""},{"$f":"IF('Paired Plot Comparison'!I22<>\"\",IF(G22>=$B$6,\"Verification Successful\", \"Verification not Satisfied\"),\"\")","v":""},{"$f":"IF('Paired Plot Comparison'!C22<>\"\",IF('Paired Plot Comparison'!D22<>\"\",'Paired Plot Comparison'!C22-'Paired Plot Comparison'!D22,\"\"),\"\")","v":""},0,0,{"$f":"IF(I22<>\"\",STDEV($I$11:I22),\"\")","v":""},{"$f":"IF(I22<>\"\",(($N$1+$N$3)^2*L22^2)/($L$1*'Paired Plot Comparison'!$B$3)^2,\"\")","v":""}]
[13,null,null,null,{"$f":"IF('Paired Plot Comparison'!I23<>\"\",AVERAGE('Paired Plot Comparison'!$I$11:I23),\"\")","v":""},{"$f":"IF('Paired Plot Comparison'!I23<>\"\",IF(A23>'Paired Plot Comparison'!M23,IF('Paired Plot Comparison'!E23>'Paired Plot Comparison'!$N$4,\"Inconclusive(H1)\",IF('Paired Plot Comparison'!E23<-'Paired Plot Comparison'!$N$4,\"Inconclusive(H1)\", \"Pass(H0)\")),\"Inconclusive\"),\"\")","v":""},{"$f":"IF('Paired Plot Comparison'!I23<>\"\",IF(F23=\"Pass(H0)\",1+G22,0),\"\")","v":""},{"$f":"IF('Paired Plot Comparison'!I23<>\"\",IF(G23>=$B$6,\"Verification Successful\", \"Verification not Satisfied\"),\"\")","v":""},{"$f":"IF('Paired Plot Comparison'!C23<>\"\",IF('Paired Plot Comparison'!D23<>\"\",'Paired Plot Comparison'!C23-'Paired Plot Comparison'!D23,\"\"),\"\")","v":""},0,0,{"$f":"IF(I23<>\"\",STDEV($I$11:I23),\"\")","v":""},{"$f":"IF(I23<>\"\",(($N$1+$N$3)^2*L23^2)/($L$1*'Paired Plot Comparison'!$B$3)^2,\"\")","v":""}]
[14,null,null,null,{"$f":"IF('Paired Plot Comparison'!I24<>\"\",AVERAGE('Paired Plot Comparison'!$I$11:I24),\"\")","v":""},{"$f":"IF('Paired Plot Comparison'!I24<>\"\",IF(A24>'Paired Plot Comparison'!M24,IF('Paired Plot Comparison'!E24>'Paired Plot Comparison'!$N$4,\"Inconclusive(H1)\",IF('Paired Plot Comparison'!E24<-'Paired Plot Comparison'!$N$4,\"Inconclusive(H1)\", \"Pass(H0)\")),\"Inconclusive\"),\"\")","v":""},{"$f":"IF('Paired Plot Comparison'!I24<>\"\",IF(F24=\"Pass(H0)\",1+G23,0),\"\")","v":""},{"$f":"IF('Paired Plot Comparison'!I24<>\"\",IF(G24>=$B$6,\"Verification Successful\", \"Verification not Satisfied\"),\"\")","v":""},{"$f":"IF('Paired Plot Comparison'!C24<>\"\",IF('Paired Plot Comparison'!D24<>\"\",'Paired Plot Comparison'!C24-'Paired Plot Comparison'!D24,\"\"),\"\")","v":""},0,0,{"$f":"IF(I24<>\"\",STDEV($I$11:I24),\"\")","v":""},{"$f":"IF(I24<>\"\",(($N$1+$N$3)^2*L24^2)/($L$1*'Paired Plot Comparison'!$B$3)^2,\"\")","v":""}]
[15,null,null,null,{"$f":"IF('Paired Plot Comparison'!I25<>\"\",AVERAGE('Paired Plot Comparison'!$I$11:I25),\"\")","v":""},{"$f":"IF('Paired Plot Comparison'!I25<>\"\",IF(A25>'Paired Plot Comparison'!M25,IF('Paired Plot Comparison'!E25>'Paired Plot Comparison'!$N$4,\"Inconclusive(H1)\",IF('Paired Plot Comparison'!E25<-'Paired Plot Comparison'!$N$4,\"Inconclusive(H1)\", \"Pass(H0)\")),\"Inconclusive\"),\"\")","v":""},{"$f":"IF('Paired Plot Comparison'!I25<>\"\",IF(F25=\"Pass(H0)\",1+G24,0),\"\")","v":""},{"$f":"IF('Paired Plot Comparison'!I25<>\"\",IF(G25>=$B$6,\"Verification Successful\", \"Verification not Satisfied\"),\"\")","v":""},{"$f":"IF('Paired Plot Comparison'!C25<>\"\",IF('Paired Plot Comparison'!D25<>\"\",'Paired Plot Comparison'!C25-'Paired Plot Comparison'!D25,\"\"),\"\")","v":""},0,0,{"$f":"IF(I25<>\"\",STDEV($I$11:I25),\"\")","v":""},{"$f":"IF(I25<>\"\",(($N$1+$N$3)^2*L25^2)/($L$1*'Paired Plot Comparison'!$B$3)^2,\"\")","v":""}]
[16,null,null,null,{"$f":"IF('Paired Plot Comparison'!I26<>\"\",AVERAGE('Paired Plot Comparison'!$I$11:I26),\"\")","v":""},{"$f":"IF('Paired Plot Comparison'!I26<>\"\",IF(A26>'Paired Plot Comparison'!M26,IF('Paired Plot Comparison'!E26>'Paired Plot Comparison'!$N$4,\"Inconclusive(H1)\",IF('Paired Plot Comparison'!E26<-'Paired Plot Comparison'!$N$4,\"Inconclusive(H1)\", \"Pass(H0)\")),\"Inconclusive\"),\"\")","v":""},{"$f":"IF('Paired Plot Comparison'!I26<>\"\",IF(F26=\"Pass(H0)\",1+G25,0),\"\")","v":""},{"$f":"IF('Paired Plot Comparison'!I26<>\"\",IF(G26>=$B$6,\"Verification Successful\", \"Verification not Satisfied\"),\"\")","v":""},{"$f":"IF('Paired Plot Comparison'!C26<>\"\",IF('Paired Plot Comparison'!D26<>\"\",'Paired Plot Comparison'!C26-'Paired Plot Comparison'!D26,\"\"),\"\")","v":""},0,0,{"$f":"IF(I26<>\"\",STDEV($I$11:I26),\"\")","v":""},{"$f":"IF(I26<>\"\",(($N$1+$N$3)^2*L26^2)/($L$1*'Paired Plot Comparison'!$B$3)^2,\"\")","v":""}]
[17,null,null,null,{"$f":"IF('Paired Plot Comparison'!I27<>\"\",AVERAGE('Paired Plot Comparison'!$I$11:I27),\"\")","v":""},{"$f":"IF('Paired Plot Comparison'!I27<>\"\",IF(A27>'Paired Plot Comparison'!M27,IF('Paired Plot Comparison'!E27>'Paired Plot Comparison'!$N$4,\"Inconclusive(H1)\",IF('Paired Plot Comparison'!E27<-'Paired Plot Comparison'!$N$4,\"Inconclusive(H1)\", \"Pass(H0)\")),\"Inconclusive\"),\"\")","v":""},{"$f":"IF('Paired Plot Comparison'!I27<>\"\",IF(F27=\"Pass(H0)\",1+G26,0),\"\")","v":""},{"$f":"IF('Paired Plot Comparison'!I27<>\"\",IF(G27>=$B$6,\"Verification Successful\", \"Verification not Satisfied\"),\"\")","v":""},{"$f":"IF('Paired Plot Comparison'!C27<>\"\",IF('Paired Plot Comparison'!D27<>\"\",'Paired Plot Comparison'!C27-'Paired Plot Comparison'!D27,\"\"),\"\")","v":""},0,0,{"$f":"IF(I27<>\"\",STDEV($I$11:I27),\"\")","v":""},{"$f":"IF(I27<>\"\",(($N$1+$N$3)^2*L27^2)/($L$1*'Paired Plot Comparison'!$B$3)^2,\"\")","v":""}]
[18,null,null,null,{"$f":"IF('Paired Plot Comparison'!I28<>\"\",AVERAGE('Paired Plot Comparison'!$I$11:I28),\"\")","v":""},{"$f":"IF('Paired Plot Comparison'!I28<>\"\",IF(A28>'Paired Plot Comparison'!M28,IF('Paired Plot Comparison'!E28>'Paired Plot Comparison'!$N$4,\"Inconclusive(H1)\",IF('Paired Plot Comparison'!E28<-'Paired Plot Comparison'!$N$4,\"Inconclusive(H1)\", \"Pass(H0)\")),\"Inconclusive\"),\"\")","v":""},{"$f":"IF('Paired Plot Comparison'!I28<>\"\",IF(F28=\"Pass(H0)\",1+G27,0),\"\")","v":""},{"$f":"IF('Paired Plot Comparison'!I28<>\"\",IF(G28>=$B$6,\"Verification Successful\", \"Verification not Satisfied\"),\"\")","v":""},{"$f":"IF('Paired Plot Comparison'!C28<>\"\",IF('Paired Plot Comparison'!D28<>\"\",'Paired Plot Comparison'!C28-'Paired Plot Comparison'!D28,\"\"),\"\")","v":""},0,0,{"$f":"IF(I28<>\"\",STDEV($I$11:I28),\"\")","v":""},{"$f":"IF(I28<>\"\",(($N$1+$N$3)^2*L28^2)/($L$1*'Paired Plot Comparison'!$B$3)^2,\"\")","v":""}]
[19,null,null,null,{"$f":"IF('Paired Plot Comparison'!I29<>\"\",AVERAGE('Paired Plot Comparison'!$I$11:I29),\"\")","v":""},{"$f":"IF('Paired Plot Comparison'!I29<>\"\",IF(A29>'Paired Plot Comparison'!M29,IF('Paired Plot Comparison'!E29>'Paired Plot Comparison'!$N$4,\"Inconclusive(H1)\",IF('Paired Plot Comparison'!E29<-'Paired Plot Comparison'!$N$4,\"Inconclusive(H1)\", \"Pass(H0)\")),\"Inconclusive\"),\"\")","v":""},{"$f":"IF('Paired Plot Comparison'!I29<>\"\",IF(F29=\"Pass(H0)\",1+G28,0),\"\")","v":""},{"$f":"IF('Paired Plot Comparison'!I29<>\"\",IF(G29>=$B$6,\"Verification Successful\", \"Verification not Satisfied\"),\"\")","v":""},{"$f":"IF('Paired Plot Comparison'!C29<>\"\",IF('Paired Plot Comparison'!D29<>\"\",'Paired Plot Comparison'!C29-'Paired Plot Comparison'!D29,\"\"),\"\")","v":""},0,0,{"$f":"IF(I29<>\"\",STDEV($I$11:I29),\"\")","v":""},{"$f":"IF(I29<>\"\",(($N$1+$N$3)^2*L29^2)/($L$1*'Paired Plot Comparison'!$B$3)^2,\"\")","v":""}]
[20,null,null,null,{"$f":"IF('Paired Plot Comparison'!I30<>\"\",AVERAGE('Paired Plot Comparison'!$I$11:I30),\"\")","v":""},{"$f":"IF('Paired Plot Comparison'!I30<>\"\",IF(A30>'Paired Plot Comparison'!M30,IF('Paired Plot Comparison'!E30>'Paired Plot Comparison'!$N$4,\"Inconclusive(H1)\",IF('Paired Plot Comparison'!E30<-'Paired Plot Comparison'!$N$4,\"Inconclusive(H1)\", \"Pass(H0)\")),\"Inconclusive\"),\"\")","v":""},{"$f":"IF('Paired Plot Comparison'!I30<>\"\",IF(F30=\"Pass(H0)\",1+G29,0),\"\")","v":""},{"$f":"IF('Paired Plot Comparison'!I30<>\"\",IF(G30>=$B$6,\"Verification Successful\", \"Verification not Satisfied\"),\"\")","v":""},{"$f":"IF('Paired Plot Comparison'!C30<>\"\",IF('Paired Plot Comparison'!D30<>\"\",'Paired Plot Comparison'!C30-'Paired Plot Comparison'!D30,\"\"),\"\")","v":""},0,0,{"$f":"IF(I30<>\"\",STDEV($I$11:I30),\"\")","v":""},{"$f":"IF(I30<>\"\",(($N$1+$N$3)^2*L30^2)/($L$1*'Paired Plot Comparison'!$B$3)^2,\"\")","v":""}]
[21,null,null,null,{"$f":"IF('Paired Plot Comparison'!I31<>\"\",AVERAGE('Paired Plot Comparison'!$I$11:I31),\"\")","v":""},{"$f":"IF('Paired Plot Comparison'!I31<>\"\",IF(A31>'Paired Plot Comparison'!M31,IF('Paired Plot Comparison'!E31>'Paired Plot Comparison'!$N$4,\"Inconclusive(H1)\",IF('Paired Plot Comparison'!E31<-'Paired Plot Comparison'!$N$4,\"Inconclusive(H1)\", \"Pass(H0)\")),\"Inconclusive\"),\"\")","v":""},{"$f":"IF('Paired Plot Comparison'!I31<>\"\",IF(F31=\"Pass(H0)\",1+G30,0),\"\")","v":""},{"$f":"IF('Paired Plot Comparison'!I31<>\"\",IF(G31>=$B$6,\"Verification Successful\", \"Verification not Satisfied\"),\"\")","v":""},{"$f":"IF('Paired Plot Comparison'!C31<>\"\",IF('Paired Plot Comparison'!D31<>\"\",'Paired Plot Comparison'!C31-'Paired Plot Comparison'!D31,\"\"),\"\")","v":""},0,0,{"$f":"IF(I31<>\"\",STDEV($I$11:I31),\"\")","v":""},{"$f":"IF(I31<>\"\",(($N$1+$N$3)^2*L31^2)/($L$1*'Paired Plot Comparison'!$B$3)^2,\"\")","v":""}]
[22,null,null,null,{"$f":"IF('Paired Plot Comparison'!I32<>\"\",AVERAGE('Paired Plot Comparison'!$I$11:I32),\"\")","v":""},{"$f":"IF('Paired Plot Comparison'!I32<>\"\",IF(A32>'Paired Plot Comparison'!M32,IF('Paired Plot Comparison'!E32>'Paired Plot Comparison'!$N$4,\"Inconclusive(H1)\",IF('Paired Plot Comparison'!E32<-'Paired Plot Comparison'!$N$4,\"Inconclusive(H1)\", \"Pass(H0)\")),\"Inconclusive\"),\"\")","v":""},{"$f":"IF('Paired Plot Comparison'!I32<>\"\",IF(F32=\"Pass(H0)\",1+G31,0),\"\")","v":""},{"$f":"IF('Paired Plot Comparison'!I32<>\"\",IF(G32>=$B$6,\"Verification Successful\", \"Verification not Satisfied\"),\"\")","v":""},{"$f":"IF('Paired Plot Comparison'!C32<>\"\",IF('Paired Plot Comparison'!D32<>\"\",'Paired Plot Comparison'!C32-'Paired Plot Comparison'!D32,\"\"),\"\")","v":""},0,0,{"$f":"IF(I32<>\"\",STDEV($I$11:I32),\"\")","v":""},{"$f":"IF(I32<>\"\",(($N$1+$N$3)^2*L32^2)/($L$1*'Paired Plot Comparison'!$B$3)^2,\"\")","v":""}]
[23,null,null,null,{"$f":"IF('Paired Plot Comparison'!I33<>\"\",AVERAGE('Paired Plot Comparison'!$I$11:I33),\"\")","v":""},{"$f":"IF('Paired Plot Comparison'!I33<>\"\",IF(A33>'Paired Plot Comparison'!M33,IF('Paired Plot Comparison'!E33>'Paired Plot Comparison'!$N$4,\"Inconclusive(H1)\",IF('Paired Plot Comparison'!E33<-'Paired Plot Comparison'!$N$4,\"Inconclusive(H1)\", \"Pass(H0)\")),\"Inconclusive\"),\"\")","v":""},{"$f":"IF('Paired Plot Comparison'!I33<>\"\",IF(F33=\"Pass(H0)\",1+G32,0),\"\")","v":""},{"$f":"IF('Paired Plot Comparison'!I33<>\"\",IF(G33>=$B$6,\"Verification Successful\", \"Verification not Satisfied\"),\"\")","v":""},{"$f":"IF('Paired Plot Comparison'!C33<>\"\",IF('Paired Plot Comparison'!D33<>\"\",'Paired Plot Comparison'!C33-'Paired Plot Comparison'!D33,\"\"),\"\")","v":""},0,0,{"$f":"IF(I33<>\"\",STDEV($I$11:I33),\"\")","v":""},{"$f":"IF(I33<>\"\",(($N$1+$N$3)^2*L33^2)/($L$1*'Paired Plot Comparison'!$B$3)^2,\"\")","v":""}]
[24,null,null,null,{"$f":"IF('Paired Plot Comparison'!I34<>\"\",AVERAGE('Paired Plot Comparison'!$I$11:I34),\"\")","v":""},{"$f":"IF('Paired Plot Comparison'!I34<>\"\",IF(A34>'Paired Plot Comparison'!M34,IF('Paired Plot Comparison'!E34>'Paired Plot Comparison'!$N$4,\"Inconclusive(H1)\",IF('Paired Plot Comparison'!E34<-'Paired Plot Comparison'!$N$4,\"Inconclusive(H1)\", \"Pass(H0)\")),\"Inconclusive\"),\"\")","v":""},{"$f":"IF('Paired Plot Comparison'!I34<>\"\",IF(F34=\"Pass(H0)\",1+G33,0),\"\")","v":""},{"$f":"IF('Paired Plot Comparison'!I34<>\"\",IF(G34>=$B$6,\"Verification Successful\", \"Verification not Satisfied\"),\"\")","v":""},{"$f":"IF('Paired Plot Comparison'!C34<>\"\",IF('Paired Plot Comparison'!D34<>\"\",'Paired Plot Comparison'!C34-'Paired Plot Comparison'!D34,\"\"),\"\")","v":""},0,0,{"$f":"IF(I34<>\"\",STDEV($I$11:I34),\"\")","v":""},{"$f":"IF(I34<>\"\",(($N$1+$N$3)^2*L34^2)/($L$1*'Paired Plot Comparison'!$B$3)^2,\"\")","v":""}]
[25,null,null,null,{"$f":"IF('Paired Plot Comparison'!I35<>\"\",AVERAGE('Paired Plot Comparison'!$I$11:I35),\"\")","v":""},{"$f":"IF('Paired Plot Comparison'!I35<>\"\",IF(A35>'Paired Plot Comparison'!M35,IF('Paired Plot Comparison'!E35>'Paired Plot Comparison'!$N$4,\"Inconclusive(H1)\",IF('Paired Plot Comparison'!E35<-'Paired Plot Comparison'!$N$4,\"Inconclusive(H1)\", \"Pass(H0)\")),\"Inconclusive\"),\"\")","v":""},{"$f":"IF('Paired Plot Comparison'!I35<>\"\",IF(F35=\"Pass(H0)\",1+G34,0),\"\")","v":""},{"$f":"IF('Paired Plot Comparison'!I35<>\"\",IF(G35>=$B$6,\"Verification Successful\", \"Verification not Satisfied\"),\"\")","v":""},{"$f":"IF('Paired Plot Comparison'!C35<>\"\",IF('Paired Plot Comparison'!D35<>\"\",'Paired Plot Comparison'!C35-'Paired Plot Comparison'!D35,\"\"),\"\")","v":""},0,0,{"$f":"IF(I35<>\"\",STDEV($I$11:I35),\"\")","v":""},{"$f":"IF(I35<>\"\",(($N$1+$N$3)^2*L35^2)/($L$1*'Paired Plot Comparison'!$B$3)^2,\"\")","v":""}]
[26,null,null,null,{"$f":"IF('Paired Plot Comparison'!I36<>\"\",AVERAGE('Paired Plot Comparison'!$I$11:I36),\"\")","v":""},{"$f":"IF('Paired Plot Comparison'!I36<>\"\",IF(A36>'Paired Plot Comparison'!M36,IF('Paired Plot Comparison'!E36>'Paired Plot Comparison'!$N$4,\"Inconclusive(H1)\",IF('Paired Plot Comparison'!E36<-'Paired Plot Comparison'!$N$4,\"Inconclusive(H1)\", \"Pass(H0)\")),\"Inconclusive\"),\"\")","v":""},{"$f":"IF('Paired Plot Comparison'!I36<>\"\",IF(F36=\"Pass(H0)\",1+G35,0),\"\")","v":""},{"$f":"IF('Paired Plot Comparison'!I36<>\"\",IF(G36>=$B$6,\"Verification Successful\", \"Verification not Satisfied\"),\"\")","v":""},{"$f":"IF('Paired Plot Comparison'!C36<>\"\",IF('Paired Plot Comparison'!D36<>\"\",'Paired Plot Comparison'!C36-'Paired Plot Comparison'!D36,\"\"),\"\")","v":""},0,0,{"$f":"IF(I36<>\"\",STDEV($I$11:I36),\"\")","v":""},{"$f":"IF(I36<>\"\",(($N$1+$N$3)^2*L36^2)/($L$1*'Paired Plot Comparison'!$B$3)^2,\"\")","v":""}]
[27,null,null,null,{"$f":"IF('Paired Plot Comparison'!I37<>\"\",AVERAGE('Paired Plot Comparison'!$I$11:I37),\"\")","v":""},{"$f":"IF('Paired Plot Comparison'!I37<>\"\",IF(A37>'Paired Plot Comparison'!M37,IF('Paired Plot Comparison'!E37>'Paired Plot Comparison'!$N$4,\"Inconclusive(H1)\",IF('Paired Plot Comparison'!E37<-'Paired Plot Comparison'!$N$4,\"Inconclusive(H1)\", \"Pass(H0)\")),\"Inconclusive\"),\"\")","v":""},{"$f":"IF('Paired Plot Comparison'!I37<>\"\",IF(F37=\"Pass(H0)\",1+G36,0),\"\")","v":""},{"$f":"IF('Paired Plot Comparison'!I37<>\"\",IF(G37>=$B$6,\"Verification Successful\", \"Verification not Satisfied\"),\"\")","v":""},{"$f":"IF('Paired Plot Comparison'!C37<>\"\",IF('Paired Plot Comparison'!D37<>\"\",'Paired Plot Comparison'!C37-'Paired Plot Comparison'!D37,\"\"),\"\")","v":""},0,0,{"$f":"IF(I37<>\"\",STDEV($I$11:I37),\"\")","v":""},{"$f":"IF(I37<>\"\",(($N$1+$N$3)^2*L37^2)/($L$1*'Paired Plot Comparison'!$B$3)^2,\"\")","v":""}]
[28,null,null,null,{"$f":"IF('Paired Plot Comparison'!I38<>\"\",AVERAGE('Paired Plot Comparison'!$I$11:I38),\"\")","v":""},{"$f":"IF('Paired Plot Comparison'!I38<>\"\",IF(A38>'Paired Plot Comparison'!M38,IF('Paired Plot Comparison'!E38>'Paired Plot Comparison'!$N$4,\"Inconclusive(H1)\",IF('Paired Plot Comparison'!E38<-'Paired Plot Comparison'!$N$4,\"Inconclusive(H1)\", \"Pass(H0)\")),\"Inconclusive\"),\"\")","v":""},{"$f":"IF('Paired Plot Comparison'!I38<>\"\",IF(F38=\"Pass(H0)\",1+G37,0),\"\")","v":""},{"$f":"IF('Paired Plot Comparison'!I38<>\"\",IF(G38>=$B$6,\"Verification Successful\", \"Verification not Satisfied\"),\"\")","v":""},{"$f":"IF('Paired Plot Comparison'!C38<>\"\",IF('Paired Plot Comparison'!D38<>\"\",'Paired Plot Comparison'!C38-'Paired Plot Comparison'!D38,\"\"),\"\")","v":""},0,0,{"$f":"IF(I38<>\"\",STDEV($I$11:I38),\"\")","v":""},{"$f":"IF(I38<>\"\",(($N$1+$N$3)^2*L38^2)/($L$1*'Paired Plot Comparison'!$B$3)^2,\"\")","v":""}]
[29,null,null,null,{"$f":"IF('Paired Plot Comparison'!I39<>\"\",AVERAGE('Paired Plot Comparison'!$I$11:I39),\"\")","v":""},{"$f":"IF('Paired Plot Comparison'!I39<>\"\",IF(A39>'Paired Plot Comparison'!M39,IF('Paired Plot Comparison'!E39>'Paired Plot Comparison'!$N$4,\"Inconclusive(H1)\",IF('Paired Plot Comparison'!E39<-'Paired Plot Comparison'!$N$4,\"Inconclusive(H1)\", \"Pass(H0)\")),\"Inconclusive\"),\"\")","v":""},{"$f":"IF('Paired Plot Comparison'!I39<>\"\",IF(F39=\"Pass(H0)\",1+G38,0),\"\")","v":""},{"$f":"IF('Paired Plot Comparison'!I39<>\"\",IF(G39>=$B$6,\"Verification Successful\", \"Verification not Satisfied\"),\"\")","v":""},{"$f":"IF('Paired Plot Comparison'!C39<>\"\",IF('Paired Plot Comparison'!D39<>\"\",'Paired Plot Comparison'!C39-'Paired Plot Comparison'!D39,\"\"),\"\")","v":""},0,0,{"$f":"IF(I39<>\"\",STDEV($I$11:I39),\"\")","v":""},{"$f":"IF(I39<>\"\",(($N$1+$N$3)^2*L39^2)/($L$1*'Paired Plot Comparison'!$B$3)^2,\"\")","v":""}]
[30,null,null,null,{"$f":"IF('Paired Plot Comparison'!I40<>\"\",AVERAGE('Paired Plot Comparison'!$I$11:I40),\"\")","v":""},{"$f":"IF('Paired Plot Comparison'!I40<>\"\",IF(A40>'Paired Plot Comparison'!M40,IF('Paired Plot Comparison'!E40>'Paired Plot Comparison'!$N$4,\"Inconclusive(H1)\",IF('Paired Plot Comparison'!E40<-'Paired Plot Comparison'!$N$4,\"Inconclusive(H1)\", \"Pass(H0)\")),\"Inconclusive\"),\"\")","v":""},{"$f":"IF('Paired Plot Comparison'!I40<>\"\",IF(F40=\"Pass(H0)\",1+G39,0),\"\")","v":""},{"$f":"IF('Paired Plot Comparison'!I40<>\"\",IF(G40>=$B$6,\"Verification Successful\", \"Verification not Satisfied\"),\"\")","v":""},{"$f":"IF('Paired Plot Comparison'!C40<>\"\",IF('Paired Plot Comparison'!D40<>\"\",'Paired Plot Comparison'!C40-'Paired Plot Comparison'!D40,\"\"),\"\")","v":""},0,0,{"$f":"IF(I40<>\"\",STDEV($I$11:I40),\"\")","v":""},{"$f":"IF(I40<>\"\",(($N$1+$N$3)^2*L40^2)/($L$1*'Paired Plot Comparison'!$B$3)^2,\"\")","v":""}]
[31,null,null,null,{"$f":"IF('Paired Plot Comparison'!I41<>\"\",AVERAGE('Paired Plot Comparison'!$I$11:I41),\"\")","v":""},{"$f":"IF('Paired Plot Comparison'!I41<>\"\",IF(A41>'Paired Plot Comparison'!M41,IF('Paired Plot Comparison'!E41>'Paired Plot Comparison'!$N$4,\"Inconclusive(H1)\",IF('Paired Plot Comparison'!E41<-'Paired Plot Comparison'!$N$4,\"Inconclusive(H1)\", \"Pass(H0)\")),\"Inconclusive\"),\"\")","v":""},{"$f":"IF('Paired Plot Comparison'!I41<>\"\",IF(F41=\"Pass(H0)\",1+G40,0),\"\")","v":""},{"$f":"IF('Paired Plot Comparison'!I41<>\"\",IF(G41>=$B$6,\"Verification Successful\", \"Verification not Satisfied\"),\"\")","v":""},{"$f":"IF('Paired Plot Comparison'!C41<>\"\",IF('Paired Plot Comparison'!D41<>\"\",'Paired Plot Comparison'!C41-'Paired Plot Comparison'!D41,\"\"),\"\")","v":""},0,0,{"$f":"IF(I41<>\"\",STDEV($I$11:I41),\"\")","v":""},{"$f":"IF(I41<>\"\",(($N$1+$N$3)^2*L41^2)/($L$1*'Paired Plot Comparison'!$B$3)^2,\"\")","v":""}]
[32,null,null,null,{"$f":"IF('Paired Plot Comparison'!I42<>\"\",AVERAGE('Paired Plot Comparison'!$I$11:I42),\"\")","v":""},{"$f":"IF('Paired Plot Comparison'!I42<>\"\",IF(A42>'Paired Plot Comparison'!M42,IF('Paired Plot Comparison'!E42>'Paired Plot Comparison'!$N$4,\"Inconclusive(H1)\",IF('Paired Plot Comparison'!E42<-'Paired Plot Comparison'!$N$4,\"Inconclusive(H1)\", \"Pass(H0)\")),\"Inconclusive\"),\"\")","v":""},{"$f":"IF('Paired Plot Comparison'!I42<>\"\",IF(F42=\"Pass(H0)\",1+G41,0),\"\")","v":""},{"$f":"IF('Paired Plot Comparison'!I42<>\"\",IF(G42>=$B$6,\"Verification Successful\", \"Verification not Satisfied\"),\"\")","v":""},{"$f":"IF('Paired Plot Comparison'!C42<>\"\",IF('Paired Plot Comparison'!D42<>\"\",'Paired Plot Comparison'!C42-'Paired Plot Comparison'!D42,\"\"),\"\")","v":""},0,0,{"$f":"IF(I42<>\"\",STDEV($I$11:I42),\"\")","v":""},{"$f":"IF(I42<>\"\",(($N$1+$N$3)^2*L42^2)/($L$1*'Paired Plot Comparison'!$B$3)^2,\"\")","v":""}]
[33,null,null,null,{"$f":"IF('Paired Plot Comparison'!I43<>\"\",AVERAGE('Paired Plot Comparison'!$I$11:I43),\"\")","v":""},{"$f":"IF('Paired Plot Comparison'!I43<>\"\",IF(A43>'Paired Plot Comparison'!M43,IF('Paired Plot Comparison'!E43>'Paired Plot Comparison'!$N$4,\"Inconclusive(H1)\",IF('Paired Plot Comparison'!E43<-'Paired Plot Comparison'!$N$4,\"Inconclusive(H1)\", \"Pass(H0)\")),\"Inconclusive\"),\"\")","v":""},{"$f":"IF('Paired Plot Comparison'!I43<>\"\",IF(F43=\"Pass(H0)\",1+G42,0),\"\")","v":""},{"$f":"IF('Paired Plot Comparison'!I43<>\"\",IF(G43>=$B$6,\"Verification Successful\", \"Verification not Satisfied\"),\"\")","v":""},{"$f":"IF('Paired Plot Comparison'!C43<>\"\",IF('Paired Plot Comparison'!D43<>\"\",'Paired Plot Comparison'!C43-'Paired Plot Comparison'!D43,\"\"),\"\")","v":""},{"$f":"-$N$4","v":0},{"$f":"$N$4","v":0},{"$f":"IF(I43<>\"\",STDEV($I$11:I43),\"\")","v":""},{"$f":"IF(I43<>\"\",(($N$1+$N$3)^2*L43^2)/($L$1*'Paired Plot Comparison'!$B$3)^2,\"\")","v":""}]
[34,null,null,null,{"$f":"IF('Paired Plot Comparison'!I44<>\"\",AVERAGE('Paired Plot Comparison'!$I$11:I44),\"\")","v":""},{"$f":"IF('Paired Plot Comparison'!I44<>\"\",IF(A44>'Paired Plot Comparison'!M44,IF('Paired Plot Comparison'!E44>'Paired Plot Comparison'!$N$4,\"Inconclusive(H1)\",IF('Paired Plot Comparison'!E44<-'Paired Plot Comparison'!$N$4,\"Inconclusive(H1)\", \"Pass(H0)\")),\"Inconclusive\"),\"\")","v":""},{"$f":"IF('Paired Plot Comparison'!I44<>\"\",IF(F44=\"Pass(H0)\",1+G43,0),\"\")","v":""},{"$f":"IF('Paired Plot Comparison'!I44<>\"\",IF(G44>=$B$6,\"Verification Successful\", \"Verification not Satisfied\"),\"\")","v":""},{"$f":"IF('Paired Plot Comparison'!C44<>\"\",IF('Paired Plot Comparison'!D44<>\"\",'Paired Plot Comparison'!C44-'Paired Plot Comparison'!D44,\"\"),\"\")","v":""},0,0,{"$f":"IF(I44<>\"\",STDEV($I$11:I44),\"\")","v":""},{"$f":"IF(I44<>\"\",(($N$1+$N$3)^2*L44^2)/($L$1*'Paired Plot Comparison'!$B$3)^2,\"\")","v":""}]
[35,null,null,null,{"$f":"IF('Paired Plot Comparison'!I45<>\"\",AVERAGE('Paired Plot Comparison'!$I$11:I45),\"\")","v":""},{"$f":"IF('Paired Plot Comparison'!I45<>\"\",IF(A45>'Paired Plot Comparison'!M45,IF('Paired Plot Comparison'!E45>'Paired Plot Comparison'!$N$4,\"Inconclusive(H1)\",IF('Paired Plot Comparison'!E45<-'Paired Plot Comparison'!$N$4,\"Inconclusive(H1)\", \"Pass(H0)\")),\"Inconclusive\"),\"\")","v":""},{"$f":"IF('Paired Plot Comparison'!I45<>\"\",IF(F45=\"Pass(H0)\",1+G44,0),\"\")","v":""},{"$f":"IF('Paired Plot Comparison'!I45<>\"\",IF(G45>=$B$6,\"Verification Successful\", \"Verification not Satisfied\"),\"\")","v":""},{"$f":"IF('Paired Plot Comparison'!C45<>\"\",IF('Paired Plot Comparison'!D45<>\"\",'Paired Plot Comparison'!C45-'Paired Plot Comparison'!D45,\"\"),\"\")","v":""},0,0,{"$f":"IF(I45<>\"\",STDEV($I$11:I45),\"\")","v":""},{"$f":"IF(I45<>\"\",(($N$1+$N$3)^2*L45^2)/($L$1*'Paired Plot Comparison'!$B$3)^2,\"\")","v":""}]
[36,null,null,null,{"$f":"IF('Paired Plot Comparison'!I46<>\"\",AVERAGE('Paired Plot Comparison'!$I$11:I46),\"\")","v":""},{"$f":"IF('Paired Plot Comparison'!I46<>\"\",IF(A46>'Paired Plot Comparison'!M46,IF('Paired Plot Comparison'!E46>'Paired Plot Comparison'!$N$4,\"Inconclusive(H1)\",IF('Paired Plot Comparison'!E46<-'Paired Plot Comparison'!$N$4,\"Inconclusive(H1)\", \"Pass(H0)\")),\"Inconclusive\"),\"\")","v":""},{"$f":"IF('Paired Plot Comparison'!I46<>\"\",IF(F46=\"Pass(H0)\",1+G45,0),\"\")","v":""},{"$f":"IF('Paired Plot Comparison'!I46<>\"\",IF(G46>=$B$6,\"Verification Successful\", \"Verification not Satisfied\"),\"\")","v":""},{"$f":"IF('Paired Plot Comparison'!C46<>\"\",IF('Paired Plot Comparison'!D46<>\"\",'Paired Plot Comparison'!C46-'Paired Plot Comparison'!D46,\"\"),\"\")","v":""},0,0,{"$f":"IF(I46<>\"\",STDEV($I$11:I46),\"\")","v":""},{"$f":"IF(I46<>\"\",(($N$1+$N$3)^2*L46^2)/($L$1*'Paired Plot Comparison'!$B$3)^2,\"\")","v":""}]
[37,null,null,null,{"$f":"IF('Paired Plot Comparison'!I47<>\"\",AVERAGE('Paired Plot Comparison'!$I$11:I47),\"\")","v":""},{"$f":"IF('Paired Plot Comparison'!I47<>\"\",IF(A47>'Paired Plot Comparison'!M47,IF('Paired Plot Comparison'!E47>'Paired Plot Comparison'!$N$4,\"Inconclusive(H1)\",IF('Paired Plot Comparison'!E47<-'Paired Plot Comparison'!$N$4,\"Inconclusive(H1)\", \"Pass(H0)\")),\"Inconclusive\"),\"\")","v":""},{"$f":"IF('Paired Plot Comparison'!I47<>\"\",IF(F47=\"Pass(H0)\",1+G46,0),\"\")","v":""},{"$f":"IF('Paired Plot Comparison'!I47<>\"\",IF(G47>=$B$6,\"Verification Successful\", \"Verification not Satisfied\"),\"\")","v":""},{"$f":"IF('Paired Plot Comparison'!C47<>\"\",IF('Paired Plot Comparison'!D47<>\"\",'Paired Plot Comparison'!C47-'Paired Plot Comparison'!D47,\"\"),\"\")","v":""},0,0,{"$f":"IF(I47<>\"\",STDEV($I$11:I47),\"\")","v":""},{"$f":"IF(I47<>\"\",(($N$1+$N$3)^2*L47^2)/($L$1*'Paired Plot Comparison'!$B$3)^2,\"\")","v":""}]
[38,null,null,null,{"$f":"IF('Paired Plot Comparison'!I48<>\"\",AVERAGE('Paired Plot Comparison'!$I$11:I48),\"\")","v":""},{"$f":"IF('Paired Plot Comparison'!I48<>\"\",IF(A48>'Paired Plot Comparison'!M48,IF('Paired Plot Comparison'!E48>'Paired Plot Comparison'!$N$4,\"Inconclusive(H1)\",IF('Paired Plot Comparison'!E48<-'Paired Plot Comparison'!$N$4,\"Inconclusive(H1)\", \"Pass(H0)\")),\"Inconclusive\"),\"\")","v":""},{"$f":"IF('Paired Plot Comparison'!I48<>\"\",IF(F48=\"Pass(H0)\",1+G47,0),\"\")","v":""},{"$f":"IF('Paired Plot Comparison'!I48<>\"\",IF(G48>=$B$6,\"Verification Successful\", \"Verification not Satisfied\"),\"\")","v":""},{"$f":"IF('Paired Plot Comparison'!C48<>\"\",IF('Paired Plot Comparison'!D48<>\"\",'Paired Plot Comparison'!C48-'Paired Plot Comparison'!D48,\"\"),\"\")","v":""},0,0,{"$f":"IF(I48<>\"\",STDEV($I$11:I48),\"\")","v":""},{"$f":"IF(I48<>\"\",(($N$1+$N$3)^2*L48^2)/($L$1*'Paired Plot Comparison'!$B$3)^2,\"\")","v":""}]
[39,null,null,null,{"$f":"IF('Paired Plot Comparison'!I49<>\"\",AVERAGE('Paired Plot Comparison'!$I$11:I49),\"\")","v":""},{"$f":"IF('Paired Plot Comparison'!I49<>\"\",IF(A49>'Paired Plot Comparison'!M49,IF('Paired Plot Comparison'!E49>'Paired Plot Comparison'!$N$4,\"Inconclusive(H1)\",IF('Paired Plot Comparison'!E49<-'Paired Plot Comparison'!$N$4,\"Inconclusive(H1)\", \"Pass(H0)\")),\"Inconclusive\"),\"\")","v":""},{"$f":"IF('Paired Plot Comparison'!I49<>\"\",IF(F49=\"Pass(H0)\",1+G48,0),\"\")","v":""},{"$f":"IF('Paired Plot Comparison'!I49<>\"\",IF(G49>=$B$6,\"Verification Successful\", \"Verification not Satisfied\"),\"\")","v":""},{"$f":"IF('Paired Plot Comparison'!C49<>\"\",IF('Paired Plot Comparison'!D49<>\"\",'Paired Plot Comparison'!C49-'Paired Plot Comparison'!D49,\"\"),\"\")","v":""},0,0,{"$f":"IF(I49<>\"\",STDEV($I$11:I49),\"\")","v":""},{"$f":"IF(I49<>\"\",(($N$1+$N$3)^2*L49^2)/($L$1*'Paired Plot Comparison'!$B$3)^2,\"\")","v":""}]
[40,null,null,null,{"$f":"IF('Paired Plot Comparison'!I50<>\"\",AVERAGE('Paired Plot Comparison'!$I$11:I50),\"\")","v":""},{"$f":"IF('Paired Plot Comparison'!I50<>\"\",IF(A50>'Paired Plot Comparison'!M50,IF('Paired Plot Comparison'!E50>'Paired Plot Comparison'!$N$4,\"Inconclusive(H1)\",IF('Paired Plot Comparison'!E50<-'Paired Plot Comparison'!$N$4,\"Inconclusive(H1)\", \"Pass(H0)\")),\"Inconclusive\"),\"\")","v":""},{"$f":"IF('Paired Plot Comparison'!I50<>\"\",IF(F50=\"Pass(H0)\",1+G49,0),\"\")","v":""},{"$f":"IF('Paired Plot Comparison'!I50<>\"\",IF(G50>=$B$6,\"Verification Successful\", \"Verification not Satisfied\"),\"\")","v":""},{"$f":"IF('Paired Plot Comparison'!C50<>\"\",IF('Paired Plot Comparison'!D50<>\"\",'Paired Plot Comparison'!C50-'Paired Plot Comparison'!D50,\"\"),\"\")","v":""},0,0,{"$f":"IF(I50<>\"\",STDEV($I$11:I50),\"\")","v":""},{"$f":"IF(I50<>\"\",(($N$1+$N$3)^2*L50^2)/($L$1*'Paired Plot Comparison'!$B$3)^2,\"\")","v":""}]
[41,null,null,null,{"$f":"IF('Paired Plot Comparison'!I51<>\"\",AVERAGE('Paired Plot Comparison'!$I$11:I51),\"\")","v":""},{"$f":"IF('Paired Plot Comparison'!I51<>\"\",IF(A51>'Paired Plot Comparison'!M51,IF('Paired Plot Comparison'!E51>'Paired Plot Comparison'!$N$4,\"Inconclusive(H1)\",IF('Paired Plot Comparison'!E51<-'Paired Plot Comparison'!$N$4,\"Inconclusive(H1)\", \"Pass(H0)\")),\"Inconclusive\"),\"\")","v":""},{"$f":"IF('Paired Plot Comparison'!I51<>\"\",IF(F51=\"Pass(H0)\",1+G50,0),\"\")","v":""},{"$f":"IF('Paired Plot Comparison'!I51<>\"\",IF(G51>=$B$6,\"Verification Successful\", \"Verification not Satisfied\"),\"\")","v":""},{"$f":"IF('Paired Plot Comparison'!C51<>\"\",IF('Paired Plot Comparison'!D51<>\"\",'Paired Plot Comparison'!C51-'Paired Plot Comparison'!D51,\"\"),\"\")","v":""},0,0,{"$f":"IF(I51<>\"\",STDEV($I$11:I51),\"\")","v":""},{"$f":"IF(I51<>\"\",(($N$1+$N$3)^2*L51^2)/($L$1*'Paired Plot Comparison'!$B$3)^2,\"\")","v":""}]
[42,null,null,null,{"$f":"IF('Paired Plot Comparison'!I52<>\"\",AVERAGE('Paired Plot Comparison'!$I$11:I52),\"\")","v":""},{"$f":"IF('Paired Plot Comparison'!I52<>\"\",IF(A52>'Paired Plot Comparison'!M52,IF('Paired Plot Comparison'!E52>'Paired Plot Comparison'!$N$4,\"Inconclusive(H1)\",IF('Paired Plot Comparison'!E52<-'Paired Plot Comparison'!$N$4,\"Inconclusive(H1)\", \"Pass(H0)\")),\"Inconclusive\"),\"\")","v":""},{"$f":"IF('Paired Plot Comparison'!I52<>\"\",IF(F52=\"Pass(H0)\",1+G51,0),\"\")","v":""},{"$f":"IF('Paired Plot Comparison'!I52<>\"\",IF(G52>=$B$6,\"Verification Successful\", \"Verification not Satisfied\"),\"\")","v":""},{"$f":"IF('Paired Plot Comparison'!C52<>\"\",IF('Paired Plot Comparison'!D52<>\"\",'Paired Plot Comparison'!C52-'Paired Plot Comparison'!D52,\"\"),\"\")","v":""},0,0,{"$f":"IF(I52<>\"\",STDEV($I$11:I52),\"\")","v":""},{"$f":"IF(I52<>\"\",(($N$1+$N$3)^2*L52^2)/($L$1*'Paired Plot Comparison'!$B$3)^2,\"\")","v":""}]
[43,null,null,null,{"$f":"IF('Paired Plot Comparison'!I53<>\"\",AVERAGE('Paired Plot Comparison'!$I$11:I53),\"\")","v":""},{"$f":"IF('Paired Plot Comparison'!I53<>\"\",IF(A53>'Paired Plot Comparison'!M53,IF('Paired Plot Comparison'!E53>'Paired Plot Comparison'!$N$4,\"Inconclusive(H1)\",IF('Paired Plot Comparison'!E53<-'Paired Plot Comparison'!$N$4,\"Inconclusive(H1)\", \"Pass(H0)\")),\"Inconclusive\"),\"\")","v":""},{"$f":"IF('Paired Plot Comparison'!I53<>\"\",IF(F53=\"Pass(H0)\",1+G52,0),\"\")","v":""},{"$f":"IF('Paired Plot Comparison'!I53<>\"\",IF(G53>=$B$6,\"Verification Successful\", \"Verification not Satisfied\"),\"\")","v":""},{"$f":"IF('Paired Plot Comparison'!C53<>\"\",IF('Paired Plot Comparison'!D53<>\"\",'Paired Plot Comparison'!C53-'Paired Plot Comparison'!D53,\"\"),\"\")","v":""},0,0,{"$f":"IF(I53<>\"\",STDEV($I$11:I53),\"\")","v":""},{"$f":"IF(I53<>\"\",(($N$1+$N$3)^2*L53^2)/($L$1*'Paired Plot Comparison'!$B$3)^2,\"\")","v":""}]
[44,null,null,null,{"$f":"IF('Paired Plot Comparison'!I54<>\"\",AVERAGE('Paired Plot Comparison'!$I$11:I54),\"\")","v":""},{"$f":"IF('Paired Plot Comparison'!I54<>\"\",IF(A54>'Paired Plot Comparison'!M54,IF('Paired Plot Comparison'!E54>'Paired Plot Comparison'!$N$4,\"Inconclusive(H1)\",IF('Paired Plot Comparison'!E54<-'Paired Plot Comparison'!$N$4,\"Inconclusive(H1)\", \"Pass(H0)\")),\"Inconclusive\"),\"\")","v":""},{"$f":"IF('Paired Plot Comparison'!I54<>\"\",IF(F54=\"Pass(H0)\",1+G53,0),\"\")","v":""},{"$f":"IF('Paired Plot Comparison'!I54<>\"\",IF(G54>=$B$6,\"Verification Successful\", \"Verification not Satisfied\"),\"\")","v":""},{"$f":"IF('Paired Plot Comparison'!C54<>\"\",IF('Paired Plot Comparison'!D54<>\"\",'Paired Plot Comparison'!C54-'Paired Plot Comparison'!D54,\"\"),\"\")","v":""},0,0,{"$f":"IF(I54<>\"\",STDEV($I$11:I54),\"\")","v":""},{"$f":"IF(I54<>\"\",(($N$1+$N$3)^2*L54^2)/($L$1*'Paired Plot Comparison'!$B$3)^2,\"\")","v":""}]
[45,null,null,null,{"$f":"IF('Paired Plot Comparison'!I55<>\"\",AVERAGE('Paired Plot Comparison'!$I$11:I55),\"\")","v":""},{"$f":"IF('Paired Plot Comparison'!I55<>\"\",IF(A55>'Paired Plot Comparison'!M55,IF('Paired Plot Comparison'!E55>'Paired Plot Comparison'!$N$4,\"Inconclusive(H1)\",IF('Paired Plot Comparison'!E55<-'Paired Plot Comparison'!$N$4,\"Inconclusive(H1)\", \"Pass(H0)\")),\"Inconclusive\"),\"\")","v":""},{"$f":"IF('Paired Plot Comparison'!I55<>\"\",IF(F55=\"Pass(H0)\",1+G54,0),\"\")","v":""},{"$f":"IF('Paired Plot Comparison'!I55<>\"\",IF(G55>=$B$6,\"Verification Successful\", \"Verification not Satisfied\"),\"\")","v":""},{"$f":"IF('Paired Plot Comparison'!C55<>\"\",IF('Paired Plot Comparison'!D55<>\"\",'Paired Plot Comparison'!C55-'Paired Plot Comparison'!D55,\"\"),\"\")","v":""},0,0,{"$f":"IF(I55<>\"\",STDEV($I$11:I55),\"\")","v":""},{"$f":"IF(I55<>\"\",(($N$1+$N$3)^2*L55^2)/($L$1*'Paired Plot Comparison'!$B$3)^2,\"\")","v":""}]
[46,null,null,null,{"$f":"IF('Paired Plot Comparison'!I56<>\"\",AVERAGE('Paired Plot Comparison'!$I$11:I56),\"\")","v":""},{"$f":"IF('Paired Plot Comparison'!I56<>\"\",IF(A56>'Paired Plot Comparison'!M56,IF('Paired Plot Comparison'!E56>'Paired Plot Comparison'!$N$4,\"Inconclusive(H1)\",IF('Paired Plot Comparison'!E56<-'Paired Plot Comparison'!$N$4,\"Inconclusive(H1)\", \"Pass(H0)\")),\"Inconclusive\"),\"\")","v":""},{"$f":"IF('Paired Plot Comparison'!I56<>\"\",IF(F56=\"Pass(H0)\",1+G55,0),\"\")","v":""},{"$f":"IF('Paired Plot Comparison'!I56<>\"\",IF(G56>=$B$6,\"Verification Successful\", \"Verification not Satisfied\"),\"\")","v":""},{"$f":"IF('Paired Plot Comparison'!C56<>\"\",IF('Paired Plot Comparison'!D56<>\"\",'Paired Plot Comparison'!C56-'Paired Plot Comparison'!D56,\"\"),\"\")","v":""},0,0,{"$f":"IF(I56<>\"\",STDEV($I$11:I56),\"\")","v":""},{"$f":"IF(I56<>\"\",(($N$1+$N$3)^2*L56^2)/($L$1*'Paired Plot Comparison'!$B$3)^2,\"\")","v":""}]
[47,null,null,null,{"$f":"IF('Paired Plot Comparison'!I57<>\"\",AVERAGE('Paired Plot Comparison'!$I$11:I57),\"\")","v":""},{"$f":"IF('Paired Plot Comparison'!I57<>\"\",IF(A57>'Paired Plot Comparison'!M57,IF('Paired Plot Comparison'!E57>'Paired Plot Comparison'!$N$4,\"Inconclusive(H1)\",IF('Paired Plot Comparison'!E57<-'Paired Plot Comparison'!$N$4,\"Inconclusive(H1)\", \"Pass(H0)\")),\"Inconclusive\"),\"\")","v":""},{"$f":"IF('Paired Plot Comparison'!I57<>\"\",IF(F57=\"Pass(H0)\",1+G56,0),\"\")","v":""},{"$f":"IF('Paired Plot Comparison'!I57<>\"\",IF(G57>=$B$6,\"Verification Successful\", \"Verification not Satisfied\"),\"\")","v":""},{"$f":"IF('Paired Plot Comparison'!C57<>\"\",IF('Paired Plot Comparison'!D57<>\"\",'Paired Plot Comparison'!C57-'Paired Plot Comparison'!D57,\"\"),\"\")","v":""},0,0,{"$f":"IF(I57<>\"\",STDEV($I$11:I57),\"\")","v":""},{"$f":"IF(I57<>\"\",(($N$1+$N$3)^2*L57^2)/($L$1*'Paired Plot Comparison'!$B$3)^2,\"\")","v":""}]
[48,null,null,null,{"$f":"IF('Paired Plot Comparison'!I58<>\"\",AVERAGE('Paired Plot Comparison'!$I$11:I58),\"\")","v":""},{"$f":"IF('Paired Plot Comparison'!I58<>\"\",IF(A58>'Paired Plot Comparison'!M58,IF('Paired Plot Comparison'!E58>'Paired Plot Comparison'!$N$4,\"Inconclusive(H1)\",IF('Paired Plot Comparison'!E58<-'Paired Plot Comparison'!$N$4,\"Inconclusive(H1)\", \"Pass(H0)\")),\"Inconclusive\"),\"\")","v":""},{"$f":"IF('Paired Plot Comparison'!I58<>\"\",IF(F58=\"Pass(H0)\",1+G57,0),\"\")","v":""},{"$f":"IF('Paired Plot Comparison'!I58<>\"\",IF(G58>=$B$6,\"Verification Successful\", \"Verification not Satisfied\"),\"\")","v":""},{"$f":"IF('Paired Plot Comparison'!C58<>\"\",IF('Paired Plot Comparison'!D58<>\"\",'Paired Plot Comparison'!C58-'Paired Plot Comparison'!D58,\"\"),\"\")","v":""},0,0,{"$f":"IF(I58<>\"\",STDEV($I$11:I58),\"\")","v":""},{"$f":"IF(I58<>\"\",(($N$1+$N$3)^2*L58^2)/($L$1*'Paired Plot Comparison'!$B$3)^2,\"\")","v":""}]
[49,null,null,null,{"$f":"IF('Paired Plot Comparison'!I59<>\"\",AVERAGE('Paired Plot Comparison'!$I$11:I59),\"\")","v":""},{"$f":"IF('Paired Plot Comparison'!I59<>\"\",IF(A59>'Paired Plot Comparison'!M59,IF('Paired Plot Comparison'!E59>'Paired Plot Comparison'!$N$4,\"Inconclusive(H1)\",IF('Paired Plot Comparison'!E59<-'Paired Plot Comparison'!$N$4,\"Inconclusive(H1)\", \"Pass(H0)\")),\"Inconclusive\"),\"\")","v":""},{"$f":"IF('Paired Plot Comparison'!I59<>\"\",IF(F59=\"Pass(H0)\",1+G58,0),\"\")","v":""},{"$f":"IF('Paired Plot Comparison'!I59<>\"\",IF(G59>=$B$6,\"Verification Successful\", \"Verification not Satisfied\"),\"\")","v":""},{"$f":"IF('Paired Plot Comparison'!C59<>\"\",IF('Paired Plot Comparison'!D59<>\"\",'Paired Plot Comparison'!C59-'Paired Plot Comparison'!D59,\"\"),\"\")","v":""},0,0,{"$f":"IF(I59<>\"\",STDEV($I$11:I59),\"\")","v":""},{"$f":"IF(I59<>\"\",(($N$1+$N$3)^2*L59^2)/($L$1*'Paired Plot Comparison'!$B$3)^2,\"\")","v":""}]
[50,null,null,null,{"$f":"IF('Paired Plot Comparison'!I60<>\"\",AVERAGE('Paired Plot Comparison'!$I$11:I60),\"\")","v":""},{"$f":"IF('Paired Plot Comparison'!I60<>\"\",IF(A60>'Paired Plot Comparison'!M60,IF('Paired Plot Comparison'!E60>'Paired Plot Comparison'!$N$4,\"Inconclusive(H1)\",IF('Paired Plot Comparison'!E60<-'Paired Plot Comparison'!$N$4,\"Inconclusive(H1)\", \"Pass(H0)\")),\"Inconclusive\"),\"\")","v":""},{"$f":"IF('Paired Plot Comparison'!I60<>\"\",IF(F60=\"Pass(H0)\",1+G59,0),\"\")","v":""},{"$f":"IF('Paired Plot Comparison'!I60<>\"\",IF(G60>=$B$6,\"Verification Successful\", \"Verification not Satisfied\"),\"\")","v":""},{"$f":"IF('Paired Plot Comparison'!C60<>\"\",IF('Paired Plot Comparison'!D60<>\"\",'Paired Plot Comparison'!C60-'Paired Plot Comparison'!D60,\"\"),\"\")","v":""},0,0,{"$f":"IF(I60<>\"\",STDEV($I$11:I60),\"\")","v":""},{"$f":"IF(I60<>\"\",(($N$1+$N$3)^2*L60^2)/($L$1*'Paired Plot Comparison'!$B$3)^2,\"\")","v":""}]
[51,null,null,null,{"$f":"IF('Paired Plot Comparison'!I61<>\"\",AVERAGE('Paired Plot Comparison'!$I$11:I61),\"\")","v":""},{"$f":"IF('Paired Plot Comparison'!I61<>\"\",IF(A61>'Paired Plot Comparison'!M61,IF('Paired Plot Comparison'!E61>'Paired Plot Comparison'!$N$4,\"Inconclusive(H1)\",IF('Paired Plot Comparison'!E61<-'Paired Plot Comparison'!$N$4,\"Inconclusive(H1)\", \"Pass(H0)\")),\"Inconclusive\"),\"\")","v":""},{"$f":"IF('Paired Plot Comparison'!I61<>\"\",IF(F61=\"Pass(H0)\",1+G60,0),\"\")","v":""},{"$f":"IF('Paired Plot Comparison'!I61<>\"\",IF(G61>=$B$6,\"Verification Successful\", \"Verification not Satisfied\"),\"\")","v":""},{"$f":"IF('Paired Plot Comparison'!C61<>\"\",IF('Paired Plot Comparison'!D61<>\"\",'Paired Plot Comparison'!C61-'Paired Plot Comparison'!D61,\"\"),\"\")","v":""},0,0,{"$f":"IF(I61<>\"\",STDEV($I$11:I61),\"\")","v":""},{"$f":"IF(I61<>\"\",(($N$1+$N$3)^2*L61^2)/($L$1*'Paired Plot Comparison'!$B$3)^2,\"\")","v":""}]
[52,null,null,null,{"$f":"IF('Paired Plot Comparison'!I62<>\"\",AVERAGE('Paired Plot Comparison'!$I$11:I62),\"\")","v":""},{"$f":"IF('Paired Plot Comparison'!I62<>\"\",IF(A62>'Paired Plot Comparison'!M62,IF('Paired Plot Comparison'!E62>'Paired Plot Comparison'!$N$4,\"Inconclusive(H1)\",IF('Paired Plot Comparison'!E62<-'Paired Plot Comparison'!$N$4,\"Inconclusive(H1)\", \"Pass(H0)\")),\"Inconclusive\"),\"\")","v":""},{"$f":"IF('Paired Plot Comparison'!I62<>\"\",IF(F62=\"Pass(H0)\",1+G61,0),\"\")","v":""},{"$f":"IF('Paired Plot Comparison'!I62<>\"\",IF(G62>=$B$6,\"Verification Successful\", \"Verification not Satisfied\"),\"\")","v":""},{"$f":"IF('Paired Plot Comparison'!C62<>\"\",IF('Paired Plot Comparison'!D62<>\"\",'Paired Plot Comparison'!C62-'Paired Plot Comparison'!D62,\"\"),\"\")","v":""},0,0,{"$f":"IF(I62<>\"\",STDEV($I$11:I62),\"\")","v":""},{"$f":"IF(I62<>\"\",(($N$1+$N$3)^2*L62^2)/($L$1*'Paired Plot Comparison'!$B$3)^2,\"\")","v":""}]
[53,null,null,null,{"$f":"IF('Paired Plot Comparison'!I63<>\"\",AVERAGE('Paired Plot Comparison'!$I$11:I63),\"\")","v":""},{"$f":"IF('Paired Plot Comparison'!I63<>\"\",IF(A63>'Paired Plot Comparison'!M63,IF('Paired Plot Comparison'!E63>'Paired Plot Comparison'!$N$4,\"Inconclusive(H1)\",IF('Paired Plot Comparison'!E63<-'Paired Plot Comparison'!$N$4,\"Inconclusive(H1)\", \"Pass(H0)\")),\"Inconclusive\"),\"\")","v":""},{"$f":"IF('Paired Plot Comparison'!I63<>\"\",IF(F63=\"Pass(H0)\",1+G62,0),\"\")","v":""},{"$f":"IF('Paired Plot Comparison'!I63<>\"\",IF(G63>=$B$6,\"Verification Successful\", \"Verification not Satisfied\"),\"\")","v":""},{"$f":"IF('Paired Plot Comparison'!C63<>\"\",IF('Paired Plot Comparison'!D63<>\"\",'Paired Plot Comparison'!C63-'Paired Plot Comparison'!D63,\"\"),\"\")","v":""},0,0,{"$f":"IF(I63<>\"\",STDEV($I$11:I63),\"\")","v":""},{"$f":"IF(I63<>\"\",(($N$1+$N$3)^2*L63^2)/($L$1*'Paired Plot Comparison'!$B$3)^2,\"\")","v":""}]
[54,null,null,null,{"$f":"IF('Paired Plot Comparison'!I64<>\"\",AVERAGE('Paired Plot Comparison'!$I$11:I64),\"\")","v":""},{"$f":"IF('Paired Plot Comparison'!I64<>\"\",IF(A64>'Paired Plot Comparison'!M64,IF('Paired Plot Comparison'!E64>'Paired Plot Comparison'!$N$4,\"Inconclusive(H1)\",IF('Paired Plot Comparison'!E64<-'Paired Plot Comparison'!$N$4,\"Inconclusive(H1)\", \"Pass(H0)\")),\"Inconclusive\"),\"\")","v":""},{"$f":"IF('Paired Plot Comparison'!I64<>\"\",IF(F64=\"Pass(H0)\",1+G63,0),\"\")","v":""},{"$f":"IF('Paired Plot Comparison'!I64<>\"\",IF(G64>=$B$6,\"Verification Successful\", \"Verification not Satisfied\"),\"\")","v":""},{"$f":"IF('Paired Plot Comparison'!C64<>\"\",IF('Paired Plot Comparison'!D64<>\"\",'Paired Plot Comparison'!C64-'Paired Plot Comparison'!D64,\"\"),\"\")","v":""},0,0,{"$f":"IF(I64<>\"\",STDEV($I$11:I64),\"\")","v":""},{"$f":"IF(I64<>\"\",(($N$1+$N$3)^2*L64^2)/($L$1*'Paired Plot Comparison'!$B$3)^2,\"\")","v":""}]
[55,null,null,null,{"$f":"IF('Paired Plot Comparison'!I65<>\"\",AVERAGE('Paired Plot Comparison'!$I$11:I65),\"\")","v":""},{"$f":"IF('Paired Plot Comparison'!I65<>\"\",IF(A65>'Paired Plot Comparison'!M65,IF('Paired Plot Comparison'!E65>'Paired Plot Comparison'!$N$4,\"Inconclusive(H1)\",IF('Paired Plot Comparison'!E65<-'Paired Plot Comparison'!$N$4,\"Inconclusive(H1)\", \"Pass(H0)\")),\"Inconclusive\"),\"\")","v":""},{"$f":"IF('Paired Plot Comparison'!I65<>\"\",IF(F65=\"Pass(H0)\",1+G64,0),\"\")","v":""},{"$f":"IF('Paired Plot Comparison'!I65<>\"\",IF(G65>=$B$6,\"Verification Successful\", \"Verification not Satisfied\"),\"\")","v":""},{"$f":"IF('Paired Plot Comparison'!C65<>\"\",IF('Paired Plot Comparison'!D65<>\"\",'Paired Plot Comparison'!C65-'Paired Plot Comparison'!D65,\"\"),\"\")","v":""},0,0,{"$f":"IF(I65<>\"\",STDEV($I$11:I65),\"\")","v":""},{"$f":"IF(I65<>\"\",(($N$1+$N$3)^2*L65^2)/($L$1*'Paired Plot Comparison'!$B$3)^2,\"\")","v":""}]
[56,null,null,null,{"$f":"IF('Paired Plot Comparison'!I66<>\"\",AVERAGE('Paired Plot Comparison'!$I$11:I66),\"\")","v":""},{"$f":"IF('Paired Plot Comparison'!I66<>\"\",IF(A66>'Paired Plot Comparison'!M66,IF('Paired Plot Comparison'!E66>'Paired Plot Comparison'!$N$4,\"Inconclusive(H1)\",IF('Paired Plot Comparison'!E66<-'Paired Plot Comparison'!$N$4,\"Inconclusive(H1)\", \"Pass(H0)\")),\"Inconclusive\"),\"\")","v":""},{"$f":"IF('Paired Plot Comparison'!I66<>\"\",IF(F66=\"Pass(H0)\",1+G65,0),\"\")","v":""},{"$f":"IF('Paired Plot Comparison'!I66<>\"\",IF(G66>=$B$6,\"Verification Successful\", \"Verification not Satisfied\"),\"\")","v":""},{"$f":"IF('Paired Plot Comparison'!C66<>\"\",IF('Paired Plot Comparison'!D66<>\"\",'Paired Plot Comparison'!C66-'Paired Plot Comparison'!D66,\"\"),\"\")","v":""},0,0,{"$f":"IF(I66<>\"\",STDEV($I$11:I66),\"\")","v":""},{"$f":"IF(I66<>\"\",(($N$1+$N$3)^2*L66^2)/($L$1*'Paired Plot Comparison'!$B$3)^2,\"\")","v":""}]
[57,null,null,null,{"$f":"IF('Paired Plot Comparison'!I67<>\"\",AVERAGE('Paired Plot Comparison'!$I$11:I67),\"\")","v":""},{"$f":"IF('Paired Plot Comparison'!I67<>\"\",IF(A67>'Paired Plot Comparison'!M67,IF('Paired Plot Comparison'!E67>'Paired Plot Comparison'!$N$4,\"Inconclusive(H1)\",IF('Paired Plot Comparison'!E67<-'Paired Plot Comparison'!$N$4,\"Inconclusive(H1)\", \"Pass(H0)\")),\"Inconclusive\"),\"\")","v":""},{"$f":"IF('Paired Plot Comparison'!I67<>\"\",IF(F67=\"Pass(H0)\",1+G66,0),\"\")","v":""},{"$f":"IF('Paired Plot Comparison'!I67<>\"\",IF(G67>=$B$6,\"Verification Successful\", \"Verification not Satisfied\"),\"\")","v":""},{"$f":"IF('Paired Plot Comparison'!C67<>\"\",IF('Paired Plot Comparison'!D67<>\"\",'Paired Plot Comparison'!C67-'Paired Plot Comparison'!D67,\"\"),\"\")","v":""},0,0,{"$f":"IF(I67<>\"\",STDEV($I$11:I67),\"\")","v":""},{"$f":"IF(I67<>\"\",(($N$1+$N$3)^2*L67^2)/($L$1*'Paired Plot Comparison'!$B$3)^2,\"\")","v":""}]
[58,null,null,null,{"$f":"IF('Paired Plot Comparison'!I68<>\"\",AVERAGE('Paired Plot Comparison'!$I$11:I68),\"\")","v":""},{"$f":"IF('Paired Plot Comparison'!I68<>\"\",IF(A68>'Paired Plot Comparison'!M68,IF('Paired Plot Comparison'!E68>'Paired Plot Comparison'!$N$4,\"Inconclusive(H1)\",IF('Paired Plot Comparison'!E68<-'Paired Plot Comparison'!$N$4,\"Inconclusive(H1)\", \"Pass(H0)\")),\"Inconclusive\"),\"\")","v":""},{"$f":"IF('Paired Plot Comparison'!I68<>\"\",IF(F68=\"Pass(H0)\",1+G67,0),\"\")","v":""},{"$f":"IF('Paired Plot Comparison'!I68<>\"\",IF(G68>=$B$6,\"Verification Successful\", \"Verification not Satisfied\"),\"\")","v":""},{"$f":"IF('Paired Plot Comparison'!C68<>\"\",IF('Paired Plot Comparison'!D68<>\"\",'Paired Plot Comparison'!C68-'Paired Plot Comparison'!D68,\"\"),\"\")","v":""},0,0,{"$f":"IF(I68<>\"\",STDEV($I$11:I68),\"\")","v":""},{"$f":"IF(I68<>\"\",(($N$1+$N$3)^2*L68^2)/($L$1*'Paired Plot Comparison'!$B$3)^2,\"\")","v":""}]
[59,null,null,null,{"$f":"IF('Paired Plot Comparison'!I69<>\"\",AVERAGE('Paired Plot Comparison'!$I$11:I69),\"\")","v":""},{"$f":"IF('Paired Plot Comparison'!I69<>\"\",IF(A69>'Paired Plot Comparison'!M69,IF('Paired Plot Comparison'!E69>'Paired Plot Comparison'!$N$4,\"Inconclusive(H1)\",IF('Paired Plot Comparison'!E69<-'Paired Plot Comparison'!$N$4,\"Inconclusive(H1)\", \"Pass(H0)\")),\"Inconclusive\"),\"\")","v":""},{"$f":"IF('Paired Plot Comparison'!I69<>\"\",IF(F69=\"Pass(H0)\",1+G68,0),\"\")","v":""},{"$f":"IF('Paired Plot Comparison'!I69<>\"\",IF(G69>=$B$6,\"Verification Successful\", \"Verification not Satisfied\"),\"\")","v":""},{"$f":"IF('Paired Plot Comparison'!C69<>\"\",IF('Paired Plot Comparison'!D69<>\"\",'Paired Plot Comparison'!C69-'Paired Plot Comparison'!D69,\"\"),\"\")","v":""},0,0,{"$f":"IF(I69<>\"\",STDEV($I$11:I69),\"\")","v":""},{"$f":"IF(I69<>\"\",(($N$1+$N$3)^2*L69^2)/($L$1*'Paired Plot Comparison'!$B$3)^2,\"\")","v":""}]
[60,null,null,null,{"$f":"IF('Paired Plot Comparison'!I70<>\"\",AVERAGE('Paired Plot Comparison'!$I$11:I70),\"\")","v":""},{"$f":"IF('Paired Plot Comparison'!I70<>\"\",IF(A70>'Paired Plot Comparison'!M70,IF('Paired Plot Comparison'!E70>'Paired Plot Comparison'!$N$4,\"Inconclusive(H1)\",IF('Paired Plot Comparison'!E70<-'Paired Plot Comparison'!$N$4,\"Inconclusive(H1)\", \"Pass(H0)\")),\"Inconclusive\"),\"\")","v":""},{"$f":"IF('Paired Plot Comparison'!I70<>\"\",IF(F70=\"Pass(H0)\",1+G69,0),\"\")","v":""},{"$f":"IF('Paired Plot Comparison'!I70<>\"\",IF(G70>=$B$6,\"Verification Successful\", \"Verification not Satisfied\"),\"\")","v":""},{"$f":"IF('Paired Plot Comparison'!C70<>\"\",IF('Paired Plot Comparison'!D70<>\"\",'Paired Plot Comparison'!C70-'Paired Plot Comparison'!D70,\"\"),\"\")","v":""},0,0,{"$f":"IF(I70<>\"\",STDEV($I$11:I70),\"\")","v":""},{"$f":"IF(I70<>\"\",(($N$1+$N$3)^2*L70^2)/($L$1*'Paired Plot Comparison'!$B$3)^2,\"\")","v":""}]
[61,null,null,null,{"$f":"IF('Paired Plot Comparison'!I71<>\"\",AVERAGE('Paired Plot Comparison'!$I$11:I71),\"\")","v":""},{"$f":"IF('Paired Plot Comparison'!I71<>\"\",IF(A71>'Paired Plot Comparison'!M71,IF('Paired Plot Comparison'!E71>'Paired Plot Comparison'!$N$4,\"Inconclusive(H1)\",IF('Paired Plot Comparison'!E71<-'Paired Plot Comparison'!$N$4,\"Inconclusive(H1)\", \"Pass(H0)\")),\"Inconclusive\"),\"\")","v":""},{"$f":"IF('Paired Plot Comparison'!I71<>\"\",IF(F71=\"Pass(H0)\",1+G70,0),\"\")","v":""},{"$f":"IF('Paired Plot Comparison'!I71<>\"\",IF(G71>=$B$6,\"Verification Successful\", \"Verification not Satisfied\"),\"\")","v":""},{"$f":"IF('Paired Plot Comparison'!C71<>\"\",IF('Paired Plot Comparison'!D71<>\"\",'Paired Plot Comparison'!C71-'Paired Plot Comparison'!D71,\"\"),\"\")","v":""},0,0,{"$f":"IF(I71<>\"\",STDEV($I$11:I71),\"\")","v":""},{"$f":"IF(I71<>\"\",(($N$1+$N$3)^2*L71^2)/($L$1*'Paired Plot Comparison'!$B$3)^2,\"\")","v":""}]
[62,null,null,null,{"$f":"IF('Paired Plot Comparison'!I72<>\"\",AVERAGE('Paired Plot Comparison'!$I$11:I72),\"\")","v":""},{"$f":"IF('Paired Plot Comparison'!I72<>\"\",IF(A72>'Paired Plot Comparison'!M72,IF('Paired Plot Comparison'!E72>'Paired Plot Comparison'!$N$4,\"Inconclusive(H1)\",IF('Paired Plot Comparison'!E72<-'Paired Plot Comparison'!$N$4,\"Inconclusive(H1)\", \"Pass(H0)\")),\"Inconclusive\"),\"\")","v":""},{"$f":"IF('Paired Plot Comparison'!I72<>\"\",IF(F72=\"Pass(H0)\",1+G71,0),\"\")","v":""},{"$f":"IF('Paired Plot Comparison'!I72<>\"\",IF(G72>=$B$6,\"Verification Successful\", \"Verification not Satisfied\"),\"\")","v":""},{"$f":"IF('Paired Plot Comparison'!C72<>\"\",IF('Paired Plot Comparison'!D72<>\"\",'Paired Plot Comparison'!C72-'Paired Plot Comparison'!D72,\"\"),\"\")","v":""},0,0,{"$f":"IF(I72<>\"\",STDEV($I$11:I72),\"\")","v":""},{"$f":"IF(I72<>\"\",(($N$1+$N$3)^2*L72^2)/($L$1*'Paired Plot Comparison'!$B$3)^2,\"\")","v":""}]
[63,null,null,null,{"$f":"IF('Paired Plot Comparison'!I73<>\"\",AVERAGE('Paired Plot Comparison'!$I$11:I73),\"\")","v":""},{"$f":"IF('Paired Plot Comparison'!I73<>\"\",IF(A73>'Paired Plot Comparison'!M73,IF('Paired Plot Comparison'!E73>'Paired Plot Comparison'!$N$4,\"Inconclusive(H1)\",IF('Paired Plot Comparison'!E73<-'Paired Plot Comparison'!$N$4,\"Inconclusive(H1)\", \"Pass(H0)\")),\"Inconclusive\"),\"\")","v":""},{"$f":"IF('Paired Plot Comparison'!I73<>\"\",IF(F73=\"Pass(H0)\",1+G72,0),\"\")","v":""},{"$f":"IF('Paired Plot Comparison'!I73<>\"\",IF(G73>=$B$6,\"Verification Successful\", \"Verification not Satisfied\"),\"\")","v":""},{"$f":"IF('Paired Plot Comparison'!C73<>\"\",IF('Paired Plot Comparison'!D73<>\"\",'Paired Plot Comparison'!C73-'Paired Plot Comparison'!D73,\"\"),\"\")","v":""},0,0,{"$f":"IF(I73<>\"\",STDEV($I$11:I73),\"\")","v":""},{"$f":"IF(I73<>\"\",(($N$1+$N$3)^2*L73^2)/($L$1*'Paired Plot Comparison'!$B$3)^2,\"\")","v":""}]
[64,null,null,null,{"$f":"IF('Paired Plot Comparison'!I74<>\"\",AVERAGE('Paired Plot Comparison'!$I$11:I74),\"\")","v":""},{"$f":"IF('Paired Plot Comparison'!I74<>\"\",IF(A74>'Paired Plot Comparison'!M74,IF('Paired Plot Comparison'!E74>'Paired Plot Comparison'!$N$4,\"Inconclusive(H1)\",IF('Paired Plot Comparison'!E74<-'Paired Plot Comparison'!$N$4,\"Inconclusive(H1)\", \"Pass(H0)\")),\"Inconclusive\"),\"\")","v":""},{"$f":"IF('Paired Plot Comparison'!I74<>\"\",IF(F74=\"Pass(H0)\",1+G73,0),\"\")","v":""},{"$f":"IF('Paired Plot Comparison'!I74<>\"\",IF(G74>=$B$6,\"Verification Successful\", \"Verification not Satisfied\"),\"\")","v":""},{"$f":"IF('Paired Plot Comparison'!C74<>\"\",IF('Paired Plot Comparison'!D74<>\"\",'Paired Plot Comparison'!C74-'Paired Plot Comparison'!D74,\"\"),\"\")","v":""},0,0,{"$f":"IF(I74<>\"\",STDEV($I$11:I74),\"\")","v":""},{"$f":"IF(I74<>\"\",(($N$1+$N$3)^2*L74^2)/($L$1*'Paired Plot Comparison'!$B$3)^2,\"\")","v":""}]
[65,null,null,null,{"$f":"IF('Paired Plot Comparison'!I75<>\"\",AVERAGE('Paired Plot Comparison'!$I$11:I75),\"\")","v":""},{"$f":"IF('Paired Plot Comparison'!I75<>\"\",IF(A75>'Paired Plot Comparison'!M75,IF('Paired Plot Comparison'!E75>'Paired Plot Comparison'!$N$4,\"Inconclusive(H1)\",IF('Paired Plot Comparison'!E75<-'Paired Plot Comparison'!$N$4,\"Inconclusive(H1)\", \"Pass(H0)\")),\"Inconclusive\"),\"\")","v":""},{"$f":"IF('Paired Plot Comparison'!I75<>\"\",IF(F75=\"Pass(H0)\",1+G74,0),\"\")","v":""},{"$f":"IF('Paired Plot Comparison'!I75<>\"\",IF(G75>=$B$6,\"Verification Successful\", \"Verification not Satisfied\"),\"\")","v":""},{"$f":"IF('Paired Plot Comparison'!C75<>\"\",IF('Paired Plot Comparison'!D75<>\"\",'Paired Plot Comparison'!C75-'Paired Plot Comparison'!D75,\"\"),\"\")","v":""},{"$f":"-$N$4","v":0},{"$f":"$N$4","v":0},{"$f":"IF(I75<>\"\",STDEV($I$11:I75),\"\")","v":""},{"$f":"IF(I75<>\"\",(($N$1+$N$3)^2*L75^2)/($L$1*'Paired Plot Comparison'!$B$3)^2,\"\")","v":""}]
[66,null,null,null,{"$f":"IF('Paired Plot Comparison'!I76<>\"\",AVERAGE('Paired Plot Comparison'!$I$11:I76),\"\")","v":""},{"$f":"IF('Paired Plot Comparison'!I76<>\"\",IF(A76>'Paired Plot Comparison'!M76,IF('Paired Plot Comparison'!E76>'Paired Plot Comparison'!$N$4,\"Inconclusive(H1)\",IF('Paired Plot Comparison'!E76<-'Paired Plot Comparison'!$N$4,\"Inconclusive(H1)\", \"Pass(H0)\")),\"Inconclusive\"),\"\")","v":""},{"$f":"IF('Paired Plot Comparison'!I76<>\"\",IF(F76=\"Pass(H0)\",1+G75,0),\"\")","v":""},{"$f":"IF('Paired Plot Comparison'!I76<>\"\",IF(G76>=$B$6,\"Verification Successful\", \"Verification not Satisfied\"),\"\")","v":""},{"$f":"IF('Paired Plot Comparison'!C76<>\"\",IF('Paired Plot Comparison'!D76<>\"\",'Paired Plot Comparison'!C76-'Paired Plot Comparison'!D76,\"\"),\"\")","v":""},0,0,{"$f":"IF(I76<>\"\",STDEV($I$11:I76),\"\")","v":""},{"$f":"IF(I76<>\"\",(($N$1+$N$3)^2*L76^2)/($L$1*'Paired Plot Comparison'!$B$3)^2,\"\")","v":""}]
[67,null,null,null,{"$f":"IF('Paired Plot Comparison'!I77<>\"\",AVERAGE('Paired Plot Comparison'!$I$11:I77),\"\")","v":""},{"$f":"IF('Paired Plot Comparison'!I77<>\"\",IF(A77>'Paired Plot Comparison'!M77,IF('Paired Plot Comparison'!E77>'Paired Plot Comparison'!$N$4,\"Inconclusive(H1)\",IF('Paired Plot Comparison'!E77<-'Paired Plot Comparison'!$N$4,\"Inconclusive(H1)\", \"Pass(H0)\")),\"Inconclusive\"),\"\")","v":""},{"$f":"IF('Paired Plot Comparison'!I77<>\"\",IF(F77=\"Pass(H0)\",1+G76,0),\"\")","v":""},{"$f":"IF('Paired Plot Comparison'!I77<>\"\",IF(G77>=$B$6,\"Verification Successful\", \"Verification not Satisfied\"),\"\")","v":""},{"$f":"IF('Paired Plot Comparison'!C77<>\"\",IF('Paired Plot Comparison'!D77<>\"\",'Paired Plot Comparison'!C77-'Paired Plot Comparison'!D77,\"\"),\"\")","v":""},0,0,{"$f":"IF(I77<>\"\",STDEV($I$11:I77),\"\")","v":""},{"$f":"IF(I77<>\"\",(($N$1+$N$3)^2*L77^2)/($L$1*'Paired Plot Comparison'!$B$3)^2,\"\")","v":""}]
[68,null,null,null,{"$f":"IF('Paired Plot Comparison'!I78<>\"\",AVERAGE('Paired Plot Comparison'!$I$11:I78),\"\")","v":""},{"$f":"IF('Paired Plot Comparison'!I78<>\"\",IF(A78>'Paired Plot Comparison'!M78,IF('Paired Plot Comparison'!E78>'Paired Plot Comparison'!$N$4,\"Inconclusive(H1)\",IF('Paired Plot Comparison'!E78<-'Paired Plot Comparison'!$N$4,\"Inconclusive(H1)\", \"Pass(H0)\")),\"Inconclusive\"),\"\")","v":""},{"$f":"IF('Paired Plot Comparison'!I78<>\"\",IF(F78=\"Pass(H0)\",1+G77,0),\"\")","v":""},{"$f":"IF('Paired Plot Comparison'!I78<>\"\",IF(G78>=$B$6,\"Verification Successful\", \"Verification not Satisfied\"),\"\")","v":""},{"$f":"IF('Paired Plot Comparison'!C78<>\"\",IF('Paired Plot Comparison'!D78<>\"\",'Paired Plot Comparison'!C78-'Paired Plot Comparison'!D78,\"\"),\"\")","v":""},0,0,{"$f":"IF(I78<>\"\",STDEV($I$11:I78),\"\")","v":""},{"$f":"IF(I78<>\"\",(($N$1+$N$3)^2*L78^2)/($L$1*'Paired Plot Comparison'!$B$3)^2,\"\")","v":""}]
[69,null,null,null,{"$f":"IF('Paired Plot Comparison'!I79<>\"\",AVERAGE('Paired Plot Comparison'!$I$11:I79),\"\")","v":""},{"$f":"IF('Paired Plot Comparison'!I79<>\"\",IF(A79>'Paired Plot Comparison'!M79,IF('Paired Plot Comparison'!E79>'Paired Plot Comparison'!$N$4,\"Inconclusive(H1)\",IF('Paired Plot Comparison'!E79<-'Paired Plot Comparison'!$N$4,\"Inconclusive(H1)\", \"Pass(H0)\")),\"Inconclusive\"),\"\")","v":""},{"$f":"IF('Paired Plot Comparison'!I79<>\"\",IF(F79=\"Pass(H0)\",1+G78,0),\"\")","v":""},{"$f":"IF('Paired Plot Comparison'!I79<>\"\",IF(G79>=$B$6,\"Verification Successful\", \"Verification not Satisfied\"),\"\")","v":""},{"$f":"IF('Paired Plot Comparison'!C79<>\"\",IF('Paired Plot Comparison'!D79<>\"\",'Paired Plot Comparison'!C79-'Paired Plot Comparison'!D79,\"\"),\"\")","v":""},0,0,{"$f":"IF(I79<>\"\",STDEV($I$11:I79),\"\")","v":""},{"$f":"IF(I79<>\"\",(($N$1+$N$3)^2*L79^2)/($L$1*'Paired Plot Comparison'!$B$3)^2,\"\")","v":""}]
[70,null,null,null,{"$f":"IF('Paired Plot Comparison'!I80<>\"\",AVERAGE('Paired Plot Comparison'!$I$11:I80),\"\")","v":""},{"$f":"IF('Paired Plot Comparison'!I80<>\"\",IF(A80>'Paired Plot Comparison'!M80,IF('Paired Plot Comparison'!E80>'Paired Plot Comparison'!$N$4,\"Inconclusive(H1)\",IF('Paired Plot Comparison'!E80<-'Paired Plot Comparison'!$N$4,\"Inconclusive(H1)\", \"Pass(H0)\")),\"Inconclusive\"),\"\")","v":""},{"$f":"IF('Paired Plot Comparison'!I80<>\"\",IF(F80=\"Pass(H0)\",1+G79,0),\"\")","v":""},{"$f":"IF('Paired Plot Comparison'!I80<>\"\",IF(G80>=$B$6,\"Verification Successful\", \"Verification not Satisfied\"),\"\")","v":""},{"$f":"IF('Paired Plot Comparison'!C80<>\"\",IF('Paired Plot Comparison'!D80<>\"\",'Paired Plot Comparison'!C80-'Paired Plot Comparison'!D80,\"\"),\"\")","v":""},0,0,{"$f":"IF(I80<>\"\",STDEV($I$11:I80),\"\")","v":""},{"$f":"IF(I80<>\"\",(($N$1+$N$3)^2*L80^2)/($L$1*'Paired Plot Comparison'!$B$3)^2,\"\")","v":""}]
[71,null,null,null,{"$f":"IF('Paired Plot Comparison'!I81<>\"\",AVERAGE('Paired Plot Comparison'!$I$11:I81),\"\")","v":""},{"$f":"IF('Paired Plot Comparison'!I81<>\"\",IF(A81>'Paired Plot Comparison'!M81,IF('Paired Plot Comparison'!E81>'Paired Plot Comparison'!$N$4,\"Inconclusive(H1)\",IF('Paired Plot Comparison'!E81<-'Paired Plot Comparison'!$N$4,\"Inconclusive(H1)\", \"Pass(H0)\")),\"Inconclusive\"),\"\")","v":""},{"$f":"IF('Paired Plot Comparison'!I81<>\"\",IF(F81=\"Pass(H0)\",1+G80,0),\"\")","v":""},{"$f":"IF('Paired Plot Comparison'!I81<>\"\",IF(G81>=$B$6,\"Verification Successful\", \"Verification not Satisfied\"),\"\")","v":""},{"$f":"IF('Paired Plot Comparison'!C81<>\"\",IF('Paired Plot Comparison'!D81<>\"\",'Paired Plot Comparison'!C81-'Paired Plot Comparison'!D81,\"\"),\"\")","v":""},0,0,{"$f":"IF(I81<>\"\",STDEV($I$11:I81),\"\")","v":""},{"$f":"IF(I81<>\"\",(($N$1+$N$3)^2*L81^2)/($L$1*'Paired Plot Comparison'!$B$3)^2,\"\")","v":""}]
[72,null,null,null,{"$f":"IF('Paired Plot Comparison'!I82<>\"\",AVERAGE('Paired Plot Comparison'!$I$11:I82),\"\")","v":""},{"$f":"IF('Paired Plot Comparison'!I82<>\"\",IF(A82>'Paired Plot Comparison'!M82,IF('Paired Plot Comparison'!E82>'Paired Plot Comparison'!$N$4,\"Inconclusive(H1)\",IF('Paired Plot Comparison'!E82<-'Paired Plot Comparison'!$N$4,\"Inconclusive(H1)\", \"Pass(H0)\")),\"Inconclusive\"),\"\")","v":""},{"$f":"IF('Paired Plot Comparison'!I82<>\"\",IF(F82=\"Pass(H0)\",1+G81,0),\"\")","v":""},{"$f":"IF('Paired Plot Comparison'!I82<>\"\",IF(G82>=$B$6,\"Verification Successful\", \"Verification not Satisfied\"),\"\")","v":""},{"$f":"IF('Paired Plot Comparison'!C82<>\"\",IF('Paired Plot Comparison'!D82<>\"\",'Paired Plot Comparison'!C82-'Paired Plot Comparison'!D82,\"\"),\"\")","v":""},0,0,{"$f":"IF(I82<>\"\",STDEV($I$11:I82),\"\")","v":""},{"$f":"IF(I82<>\"\",(($N$1+$N$3)^2*L82^2)/($L$1*'Paired Plot Comparison'!$B$3)^2,\"\")","v":""}]
[73,null,null,null,{"$f":"IF('Paired Plot Comparison'!I83<>\"\",AVERAGE('Paired Plot Comparison'!$I$11:I83),\"\")","v":""},{"$f":"IF('Paired Plot Comparison'!I83<>\"\",IF(A83>'Paired Plot Comparison'!M83,IF('Paired Plot Comparison'!E83>'Paired Plot Comparison'!$N$4,\"Inconclusive(H1)\",IF('Paired Plot Comparison'!E83<-'Paired Plot Comparison'!$N$4,\"Inconclusive(H1)\", \"Pass(H0)\")),\"Inconclusive\"),\"\")","v":""},{"$f":"IF('Paired Plot Comparison'!I83<>\"\",IF(F83=\"Pass(H0)\",1+G82,0),\"\")","v":""},{"$f":"IF('Paired Plot Comparison'!I83<>\"\",IF(G83>=$B$6,\"Verification Successful\", \"Verification not Satisfied\"),\"\")","v":""},{"$f":"IF('Paired Plot Comparison'!C83<>\"\",IF('Paired Plot Comparison'!D83<>\"\",'Paired Plot Comparison'!C83-'Paired Plot Comparison'!D83,\"\"),\"\")","v":""},0,0,{"$f":"IF(I83<>\"\",STDEV($I$11:I83),\"\")","v":""},{"$f":"IF(I83<>\"\",(($N$1+$N$3)^2*L83^2)/($L$1*'Paired Plot Comparison'!$B$3)^2,\"\")","v":""}]
[74,null,null,null,{"$f":"IF('Paired Plot Comparison'!I84<>\"\",AVERAGE('Paired Plot Comparison'!$I$11:I84),\"\")","v":""},{"$f":"IF('Paired Plot Comparison'!I84<>\"\",IF(A84>'Paired Plot Comparison'!M84,IF('Paired Plot Comparison'!E84>'Paired Plot Comparison'!$N$4,\"Inconclusive(H1)\",IF('Paired Plot Comparison'!E84<-'Paired Plot Comparison'!$N$4,\"Inconclusive(H1)\", \"Pass(H0)\")),\"Inconclusive\"),\"\")","v":""},{"$f":"IF('Paired Plot Comparison'!I84<>\"\",IF(F84=\"Pass(H0)\",1+G83,0),\"\")","v":""},{"$f":"IF('Paired Plot Comparison'!I84<>\"\",IF(G84>=$B$6,\"Verification Successful\", \"Verification not Satisfied\"),\"\")","v":""},{"$f":"IF('Paired Plot Comparison'!C84<>\"\",IF('Paired Plot Comparison'!D84<>\"\",'Paired Plot Comparison'!C84-'Paired Plot Comparison'!D84,\"\"),\"\")","v":""},0,0,{"$f":"IF(I84<>\"\",STDEV($I$11:I84),\"\")","v":""},{"$f":"IF(I84<>\"\",(($N$1+$N$3)^2*L84^2)/($L$1*'Paired Plot Comparison'!$B$3)^2,\"\")","v":""}]
[75,null,null,null,{"$f":"IF('Paired Plot Comparison'!I85<>\"\",AVERAGE('Paired Plot Comparison'!$I$11:I85),\"\")","v":""},{"$f":"IF('Paired Plot Comparison'!I85<>\"\",IF(A85>'Paired Plot Comparison'!M85,IF('Paired Plot Comparison'!E85>'Paired Plot Comparison'!$N$4,\"Inconclusive(H1)\",IF('Paired Plot Comparison'!E85<-'Paired Plot Comparison'!$N$4,\"Inconclusive(H1)\", \"Pass(H0)\")),\"Inconclusive\"),\"\")","v":""},{"$f":"IF('Paired Plot Comparison'!I85<>\"\",IF(F85=\"Pass(H0)\",1+G84,0),\"\")","v":""},{"$f":"IF('Paired Plot Comparison'!I85<>\"\",IF(G85>=$B$6,\"Verification Successful\", \"Verification not Satisfied\"),\"\")","v":""},{"$f":"IF('Paired Plot Comparison'!C85<>\"\",IF('Paired Plot Comparison'!D85<>\"\",'Paired Plot Comparison'!C85-'Paired Plot Comparison'!D85,\"\"),\"\")","v":""},0,0,{"$f":"IF(I85<>\"\",STDEV($I$11:I85),\"\")","v":""},{"$f":"IF(I85<>\"\",(($N$1+$N$3)^2*L85^2)/($L$1*'Paired Plot Comparison'!$B$3)^2,\"\")","v":""}]
[76,null,null,null,{"$f":"IF('Paired Plot Comparison'!I86<>\"\",AVERAGE('Paired Plot Comparison'!$I$11:I86),\"\")","v":""},{"$f":"IF('Paired Plot Comparison'!I86<>\"\",IF(A86>'Paired Plot Comparison'!M86,IF('Paired Plot Comparison'!E86>'Paired Plot Comparison'!$N$4,\"Inconclusive(H1)\",IF('Paired Plot Comparison'!E86<-'Paired Plot Comparison'!$N$4,\"Inconclusive(H1)\", \"Pass(H0)\")),\"Inconclusive\"),\"\")","v":""},{"$f":"IF('Paired Plot Comparison'!I86<>\"\",IF(F86=\"Pass(H0)\",1+G85,0),\"\")","v":""},{"$f":"IF('Paired Plot Comparison'!I86<>\"\",IF(G86>=$B$6,\"Verification Successful\", \"Verification not Satisfied\"),\"\")","v":""},{"$f":"IF('Paired Plot Comparison'!C86<>\"\",IF('Paired Plot Comparison'!D86<>\"\",'Paired Plot Comparison'!C86-'Paired Plot Comparison'!D86,\"\"),\"\")","v":""},0,0,{"$f":"IF(I86<>\"\",STDEV($I$11:I86),\"\")","v":""},{"$f":"IF(I86<>\"\",(($N$1+$N$3)^2*L86^2)/($L$1*'Paired Plot Comparison'!$B$3)^2,\"\")","v":""}]
[77,null,null,null,{"$f":"IF('Paired Plot Comparison'!I87<>\"\",AVERAGE('Paired Plot Comparison'!$I$11:I87),\"\")","v":""},{"$f":"IF('Paired Plot Comparison'!I87<>\"\",IF(A87>'Paired Plot Comparison'!M87,IF('Paired Plot Comparison'!E87>'Paired Plot Comparison'!$N$4,\"Inconclusive(H1)\",IF('Paired Plot Comparison'!E87<-'Paired Plot Comparison'!$N$4,\"Inconclusive(H1)\", \"Pass(H0)\")),\"Inconclusive\"),\"\")","v":""},{"$f":"IF('Paired Plot Comparison'!I87<>\"\",IF(F87=\"Pass(H0)\",1+G86,0),\"\")","v":""},{"$f":"IF('Paired Plot Comparison'!I87<>\"\",IF(G87>=$B$6,\"Verification Successful\", \"Verification not Satisfied\"),\"\")","v":""},{"$f":"IF('Paired Plot Comparison'!C87<>\"\",IF('Paired Plot Comparison'!D87<>\"\",'Paired Plot Comparison'!C87-'Paired Plot Comparison'!D87,\"\"),\"\")","v":""},0,0,{"$f":"IF(I87<>\"\",STDEV($I$11:I87),\"\")","v":""},{"$f":"IF(I87<>\"\",(($N$1+$N$3)^2*L87^2)/($L$1*'Paired Plot Comparison'!$B$3)^2,\"\")","v":""}]
[78,null,null,null,{"$f":"IF('Paired Plot Comparison'!I88<>\"\",AVERAGE('Paired Plot Comparison'!$I$11:I88),\"\")","v":""},{"$f":"IF('Paired Plot Comparison'!I88<>\"\",IF(A88>'Paired Plot Comparison'!M88,IF('Paired Plot Comparison'!E88>'Paired Plot Comparison'!$N$4,\"Inconclusive(H1)\",IF('Paired Plot Comparison'!E88<-'Paired Plot Comparison'!$N$4,\"Inconclusive(H1)\", \"Pass(H0)\")),\"Inconclusive\"),\"\")","v":""},{"$f":"IF('Paired Plot Comparison'!I88<>\"\",IF(F88=\"Pass(H0)\",1+G87,0),\"\")","v":""},{"$f":"IF('Paired Plot Comparison'!I88<>\"\",IF(G88>=$B$6,\"Verification Successful\", \"Verification not Satisfied\"),\"\")","v":""},{"$f":"IF('Paired Plot Comparison'!C88<>\"\",IF('Paired Plot Comparison'!D88<>\"\",'Paired Plot Comparison'!C88-'Paired Plot Comparison'!D88,\"\"),\"\")","v":""},0,0,{"$f":"IF(I88<>\"\",STDEV($I$11:I88),\"\")","v":""},{"$f":"IF(I88<>\"\",(($N$1+$N$3)^2*L88^2)/($L$1*'Paired Plot Comparison'!$B$3)^2,\"\")","v":""}]
[79,null,null,null,{"$f":"IF('Paired Plot Comparison'!I89<>\"\",AVERAGE('Paired Plot Comparison'!$I$11:I89),\"\")","v":""},{"$f":"IF('Paired Plot Comparison'!I89<>\"\",IF(A89>'Paired Plot Comparison'!M89,IF('Paired Plot Comparison'!E89>'Paired Plot Comparison'!$N$4,\"Inconclusive(H1)\",IF('Paired Plot Comparison'!E89<-'Paired Plot Comparison'!$N$4,\"Inconclusive(H1)\", \"Pass(H0)\")),\"Inconclusive\"),\"\")","v":""},{"$f":"IF('Paired Plot Comparison'!I89<>\"\",IF(F89=\"Pass(H0)\",1+G88,0),\"\")","v":""},{"$f":"IF('Paired Plot Comparison'!I89<>\"\",IF(G89>=$B$6,\"Verification Successful\", \"Verification not Satisfied\"),\"\")","v":""},{"$f":"IF('Paired Plot Comparison'!C89<>\"\",IF('Paired Plot Comparison'!D89<>\"\",'Paired Plot Comparison'!C89-'Paired Plot Comparison'!D89,\"\"),\"\")","v":""},0,0,{"$f":"IF(I89<>\"\",STDEV($I$11:I89),\"\")","v":""},{"$f":"IF(I89<>\"\",(($N$1+$N$3)^2*L89^2)/($L$1*'Paired Plot Comparison'!$B$3)^2,\"\")","v":""}]
[80,null,null,null,{"$f":"IF('Paired Plot Comparison'!I90<>\"\",AVERAGE('Paired Plot Comparison'!$I$11:I90),\"\")","v":""},{"$f":"IF('Paired Plot Comparison'!I90<>\"\",IF(A90>'Paired Plot Comparison'!M90,IF('Paired Plot Comparison'!E90>'Paired Plot Comparison'!$N$4,\"Inconclusive(H1)\",IF('Paired Plot Comparison'!E90<-'Paired Plot Comparison'!$N$4,\"Inconclusive(H1)\", \"Pass(H0)\")),\"Inconclusive\"),\"\")","v":""},{"$f":"IF('Paired Plot Comparison'!I90<>\"\",IF(F90=\"Pass(H0)\",1+G89,0),\"\")","v":""},{"$f":"IF('Paired Plot Comparison'!I90<>\"\",IF(G90>=$B$6,\"Verification Successful\", \"Verification not Satisfied\"),\"\")","v":""},{"$f":"IF('Paired Plot Comparison'!C90<>\"\",IF('Paired Plot Comparison'!D90<>\"\",'Paired Plot Comparison'!C90-'Paired Plot Comparison'!D90,\"\"),\"\")","v":""},0,0,{"$f":"IF(I90<>\"\",STDEV($I$11:I90),\"\")","v":""},{"$f":"IF(I90<>\"\",(($N$1+$N$3)^2*L90^2)/($L$1*'Paired Plot Comparison'!$B$3)^2,\"\")","v":""}]
[81,null,null,null,{"$f":"IF('Paired Plot Comparison'!I91<>\"\",AVERAGE('Paired Plot Comparison'!$I$11:I91),\"\")","v":""},{"$f":"IF('Paired Plot Comparison'!I91<>\"\",IF(A91>'Paired Plot Comparison'!M91,IF('Paired Plot Comparison'!E91>'Paired Plot Comparison'!$N$4,\"Inconclusive(H1)\",IF('Paired Plot Comparison'!E91<-'Paired Plot Comparison'!$N$4,\"Inconclusive(H1)\", \"Pass(H0)\")),\"Inconclusive\"),\"\")","v":""},{"$f":"IF('Paired Plot Comparison'!I91<>\"\",IF(F91=\"Pass(H0)\",1+G90,0),\"\")","v":""},{"$f":"IF('Paired Plot Comparison'!I91<>\"\",IF(G91>=$B$6,\"Verification Successful\", \"Verification not Satisfied\"),\"\")","v":""},{"$f":"IF('Paired Plot Comparison'!C91<>\"\",IF('Paired Plot Comparison'!D91<>\"\",'Paired Plot Comparison'!C91-'Paired Plot Comparison'!D91,\"\"),\"\")","v":""},0,0,{"$f":"IF(I91<>\"\",STDEV($I$11:I91),\"\")","v":""},{"$f":"IF(I91<>\"\",(($N$1+$N$3)^2*L91^2)/($L$1*'Paired Plot Comparison'!$B$3)^2,\"\")","v":""}]
[82,null,null,null,{"$f":"IF('Paired Plot Comparison'!I92<>\"\",AVERAGE('Paired Plot Comparison'!$I$11:I92),\"\")","v":""},{"$f":"IF('Paired Plot Comparison'!I92<>\"\",IF(A92>'Paired Plot Comparison'!M92,IF('Paired Plot Comparison'!E92>'Paired Plot Comparison'!$N$4,\"Inconclusive(H1)\",IF('Paired Plot Comparison'!E92<-'Paired Plot Comparison'!$N$4,\"Inconclusive(H1)\", \"Pass(H0)\")),\"Inconclusive\"),\"\")","v":""},{"$f":"IF('Paired Plot Comparison'!I92<>\"\",IF(F92=\"Pass(H0)\",1+G91,0),\"\")","v":""},{"$f":"IF('Paired Plot Comparison'!I92<>\"\",IF(G92>=$B$6,\"Verification Successful\", \"Verification not Satisfied\"),\"\")","v":""},{"$f":"IF('Paired Plot Comparison'!C92<>\"\",IF('Paired Plot Comparison'!D92<>\"\",'Paired Plot Comparison'!C92-'Paired Plot Comparison'!D92,\"\"),\"\")","v":""},0,0,{"$f":"IF(I92<>\"\",STDEV($I$11:I92),\"\")","v":""},{"$f":"IF(I92<>\"\",(($N$1+$N$3)^2*L92^2)/($L$1*'Paired Plot Comparison'!$B$3)^2,\"\")","v":""}]
[83,null,null,null,{"$f":"IF('Paired Plot Comparison'!I93<>\"\",AVERAGE('Paired Plot Comparison'!$I$11:I93),\"\")","v":""},{"$f":"IF('Paired Plot Comparison'!I93<>\"\",IF(A93>'Paired Plot Comparison'!M93,IF('Paired Plot Comparison'!E93>'Paired Plot Comparison'!$N$4,\"Inconclusive(H1)\",IF('Paired Plot Comparison'!E93<-'Paired Plot Comparison'!$N$4,\"Inconclusive(H1)\", \"Pass(H0)\")),\"Inconclusive\"),\"\")","v":""},{"$f":"IF('Paired Plot Comparison'!I93<>\"\",IF(F93=\"Pass(H0)\",1+G92,0),\"\")","v":""},{"$f":"IF('Paired Plot Comparison'!I93<>\"\",IF(G93>=$B$6,\"Verification Successful\", \"Verification not Satisfied\"),\"\")","v":""},{"$f":"IF('Paired Plot Comparison'!C93<>\"\",IF('Paired Plot Comparison'!D93<>\"\",'Paired Plot Comparison'!C93-'Paired Plot Comparison'!D93,\"\"),\"\")","v":""},0,0,{"$f":"IF(I93<>\"\",STDEV($I$11:I93),\"\")","v":""},{"$f":"IF(I93<>\"\",(($N$1+$N$3)^2*L93^2)/($L$1*'Paired Plot Comparison'!$B$3)^2,\"\")","v":""}]
[84,null,null,null,{"$f":"IF('Paired Plot Comparison'!I94<>\"\",AVERAGE('Paired Plot Comparison'!$I$11:I94),\"\")","v":""},{"$f":"IF('Paired Plot Comparison'!I94<>\"\",IF(A94>'Paired Plot Comparison'!M94,IF('Paired Plot Comparison'!E94>'Paired Plot Comparison'!$N$4,\"Inconclusive(H1)\",IF('Paired Plot Comparison'!E94<-'Paired Plot Comparison'!$N$4,\"Inconclusive(H1)\", \"Pass(H0)\")),\"Inconclusive\"),\"\")","v":""},{"$f":"IF('Paired Plot Comparison'!I94<>\"\",IF(F94=\"Pass(H0)\",1+G93,0),\"\")","v":""},{"$f":"IF('Paired Plot Comparison'!I94<>\"\",IF(G94>=$B$6,\"Verification Successful\", \"Verification not Satisfied\"),\"\")","v":""},{"$f":"IF('Paired Plot Comparison'!C94<>\"\",IF('Paired Plot Comparison'!D94<>\"\",'Paired Plot Comparison'!C94-'Paired Plot Comparison'!D94,\"\"),\"\")","v":""},0,0,{"$f":"IF(I94<>\"\",STDEV($I$11:I94),\"\")","v":""},{"$f":"IF(I94<>\"\",(($N$1+$N$3)^2*L94^2)/($L$1*'Paired Plot Comparison'!$B$3)^2,\"\")","v":""}]
[85,null,null,null,{"$f":"IF('Paired Plot Comparison'!I95<>\"\",AVERAGE('Paired Plot Comparison'!$I$11:I95),\"\")","v":""},{"$f":"IF('Paired Plot Comparison'!I95<>\"\",IF(A95>'Paired Plot Comparison'!M95,IF('Paired Plot Comparison'!E95>'Paired Plot Comparison'!$N$4,\"Inconclusive(H1)\",IF('Paired Plot Comparison'!E95<-'Paired Plot Comparison'!$N$4,\"Inconclusive(H1)\", \"Pass(H0)\")),\"Inconclusive\"),\"\")","v":""},{"$f":"IF('Paired Plot Comparison'!I95<>\"\",IF(F95=\"Pass(H0)\",1+G94,0),\"\")","v":""},{"$f":"IF('Paired Plot Comparison'!I95<>\"\",IF(G95>=$B$6,\"Verification Successful\", \"Verification not Satisfied\"),\"\")","v":""},{"$f":"IF('Paired Plot Comparison'!C95<>\"\",IF('Paired Plot Comparison'!D95<>\"\",'Paired Plot Comparison'!C95-'Paired Plot Comparison'!D95,\"\"),\"\")","v":""},0,0,{"$f":"IF(I95<>\"\",STDEV($I$11:I95),\"\")","v":""},{"$f":"IF(I95<>\"\",(($N$1+$N$3)^2*L95^2)/($L$1*'Paired Plot Comparison'!$B$3)^2,\"\")","v":""}]
[86,null,null,null,{"$f":"IF('Paired Plot Comparison'!I96<>\"\",AVERAGE('Paired Plot Comparison'!$I$11:I96),\"\")","v":""},{"$f":"IF('Paired Plot Comparison'!I96<>\"\",IF(A96>'Paired Plot Comparison'!M96,IF('Paired Plot Comparison'!E96>'Paired Plot Comparison'!$N$4,\"Inconclusive(H1)\",IF('Paired Plot Comparison'!E96<-'Paired Plot Comparison'!$N$4,\"Inconclusive(H1)\", \"Pass(H0)\")),\"Inconclusive\"),\"\")","v":""},{"$f":"IF('Paired Plot Comparison'!I96<>\"\",IF(F96=\"Pass(H0)\",1+G95,0),\"\")","v":""},{"$f":"IF('Paired Plot Comparison'!I96<>\"\",IF(G96>=$B$6,\"Verification Successful\", \"Verification not Satisfied\"),\"\")","v":""},{"$f":"IF('Paired Plot Comparison'!C96<>\"\",IF('Paired Plot Comparison'!D96<>\"\",'Paired Plot Comparison'!C96-'Paired Plot Comparison'!D96,\"\"),\"\")","v":""},0,0,{"$f":"IF(I96<>\"\",STDEV($I$11:I96),\"\")","v":""},{"$f":"IF(I96<>\"\",(($N$1+$N$3)^2*L96^2)/($L$1*'Paired Plot Comparison'!$B$3)^2,\"\")","v":""}]
[87,null,null,null,{"$f":"IF('Paired Plot Comparison'!I97<>\"\",AVERAGE('Paired Plot Comparison'!$I$11:I97),\"\")","v":""},{"$f":"IF('Paired Plot Comparison'!I97<>\"\",IF(A97>'Paired Plot Comparison'!M97,IF('Paired Plot Comparison'!E97>'Paired Plot Comparison'!$N$4,\"Inconclusive(H1)\",IF('Paired Plot Comparison'!E97<-'Paired Plot Comparison'!$N$4,\"Inconclusive(H1)\", \"Pass(H0)\")),\"Inconclusive\"),\"\")","v":""},{"$f":"IF('Paired Plot Comparison'!I97<>\"\",IF(F97=\"Pass(H0)\",1+G96,0),\"\")","v":""},{"$f":"IF('Paired Plot Comparison'!I97<>\"\",IF(G97>=$B$6,\"Verification Successful\", \"Verification not Satisfied\"),\"\")","v":""},{"$f":"IF('Paired Plot Comparison'!C97<>\"\",IF('Paired Plot Comparison'!D97<>\"\",'Paired Plot Comparison'!C97-'Paired Plot Comparison'!D97,\"\"),\"\")","v":""},0,0,{"$f":"IF(I97<>\"\",STDEV($I$11:I97),\"\")","v":""},{"$f":"IF(I97<>\"\",(($N$1+$N$3)^2*L97^2)/($L$1*'Paired Plot Comparison'!$B$3)^2,\"\")","v":""}]
[88,null,null,null,{"$f":"IF('Paired Plot Comparison'!I98<>\"\",AVERAGE('Paired Plot Comparison'!$I$11:I98),\"\")","v":""},{"$f":"IF('Paired Plot Comparison'!I98<>\"\",IF(A98>'Paired Plot Comparison'!M98,IF('Paired Plot Comparison'!E98>'Paired Plot Comparison'!$N$4,\"Inconclusive(H1)\",IF('Paired Plot Comparison'!E98<-'Paired Plot Comparison'!$N$4,\"Inconclusive(H1)\", \"Pass(H0)\")),\"Inconclusive\"),\"\")","v":""},{"$f":"IF('Paired Plot Comparison'!I98<>\"\",IF(F98=\"Pass(H0)\",1+G97,0),\"\")","v":""},{"$f":"IF('Paired Plot Comparison'!I98<>\"\",IF(G98>=$B$6,\"Verification Successful\", \"Verification not Satisfied\"),\"\")","v":""},{"$f":"IF('Paired Plot Comparison'!C98<>\"\",IF('Paired Plot Comparison'!D98<>\"\",'Paired Plot Comparison'!C98-'Paired Plot Comparison'!D98,\"\"),\"\")","v":""},0,0,{"$f":"IF(I98<>\"\",STDEV($I$11:I98),\"\")","v":""},{"$f":"IF(I98<>\"\",(($N$1+$N$3)^2*L98^2)/($L$1*'Paired Plot Comparison'!$B$3)^2,\"\")","v":""}]
[89,null,null,null,{"$f":"IF('Paired Plot Comparison'!I99<>\"\",AVERAGE('Paired Plot Comparison'!$I$11:I99),\"\")","v":""},{"$f":"IF('Paired Plot Comparison'!I99<>\"\",IF(A99>'Paired Plot Comparison'!M99,IF('Paired Plot Comparison'!E99>'Paired Plot Comparison'!$N$4,\"Inconclusive(H1)\",IF('Paired Plot Comparison'!E99<-'Paired Plot Comparison'!$N$4,\"Inconclusive(H1)\", \"Pass(H0)\")),\"Inconclusive\"),\"\")","v":""},{"$f":"IF('Paired Plot Comparison'!I99<>\"\",IF(F99=\"Pass(H0)\",1+G98,0),\"\")","v":""},{"$f":"IF('Paired Plot Comparison'!I99<>\"\",IF(G99>=$B$6,\"Verification Successful\", \"Verification not Satisfied\"),\"\")","v":""},{"$f":"IF('Paired Plot Comparison'!C99<>\"\",IF('Paired Plot Comparison'!D99<>\"\",'Paired Plot Comparison'!C99-'Paired Plot Comparison'!D99,\"\"),\"\")","v":""},0,0,{"$f":"IF(I99<>\"\",STDEV($I$11:I99),\"\")","v":""},{"$f":"IF(I99<>\"\",(($N$1+$N$3)^2*L99^2)/($L$1*'Paired Plot Comparison'!$B$3)^2,\"\")","v":""}]
[90,null,null,null,{"$f":"IF('Paired Plot Comparison'!I100<>\"\",AVERAGE('Paired Plot Comparison'!$I$11:I100),\"\")","v":""},{"$f":"IF('Paired Plot Comparison'!I100<>\"\",IF(A100>'Paired Plot Comparison'!M100,IF('Paired Plot Comparison'!E100>'Paired Plot Comparison'!$N$4,\"Inconclusive(H1)\",IF('Paired Plot Comparison'!E100<-'Paired Plot Comparison'!$N$4,\"Inconclusive(H1)\", \"Pass(H0)\")),\"Inconclusive\"),\"\")","v":""},{"$f":"IF('Paired Plot Comparison'!I100<>\"\",IF(F100=\"Pass(H0)\",1+G99,0),\"\")","v":""},{"$f":"IF('Paired Plot Comparison'!I100<>\"\",IF(G100>=$B$6,\"Verification Successful\", \"Verification not Satisfied\"),\"\")","v":""},{"$f":"IF('Paired Plot Comparison'!C100<>\"\",IF('Paired Plot Comparison'!D100<>\"\",'Paired Plot Comparison'!C100-'Paired Plot Comparison'!D100,\"\"),\"\")","v":""},0,0,{"$f":"IF(I100<>\"\",STDEV($I$11:I100),\"\")","v":""},{"$f":"IF(I100<>\"\",(($N$1+$N$3)^2*L100^2)/($L$1*'Paired Plot Comparison'!$B$3)^2,\"\")","v":""}]
[91,null,null,null,{"$f":"IF('Paired Plot Comparison'!I101<>\"\",AVERAGE('Paired Plot Comparison'!$I$11:I101),\"\")","v":""},{"$f":"IF('Paired Plot Comparison'!I101<>\"\",IF(A101>'Paired Plot Comparison'!M101,IF('Paired Plot Comparison'!E101>'Paired Plot Comparison'!$N$4,\"Inconclusive(H1)\",IF('Paired Plot Comparison'!E101<-'Paired Plot Comparison'!$N$4,\"Inconclusive(H1)\", \"Pass(H0)\")),\"Inconclusive\"),\"\")","v":""},{"$f":"IF('Paired Plot Comparison'!I101<>\"\",IF(F101=\"Pass(H0)\",1+G100,0),\"\")","v":""},{"$f":"IF('Paired Plot Comparison'!I101<>\"\",IF(G101>=$B$6,\"Verification Successful\", \"Verification not Satisfied\"),\"\")","v":""},{"$f":"IF('Paired Plot Comparison'!C101<>\"\",IF('Paired Plot Comparison'!D101<>\"\",'Paired Plot Comparison'!C101-'Paired Plot Comparison'!D101,\"\"),\"\")","v":""},0,0,{"$f":"IF(I101<>\"\",STDEV($I$11:I101),\"\")","v":""},{"$f":"IF(I101<>\"\",(($N$1+$N$3)^2*L101^2)/($L$1*'Paired Plot Comparison'!$B$3)^2,\"\")","v":""}]
[92,null,null,null,{"$f":"IF('Paired Plot Comparison'!I102<>\"\",AVERAGE('Paired Plot Comparison'!$I$11:I102),\"\")","v":""},{"$f":"IF('Paired Plot Comparison'!I102<>\"\",IF(A102>'Paired Plot Comparison'!M102,IF('Paired Plot Comparison'!E102>'Paired Plot Comparison'!$N$4,\"Inconclusive(H1)\",IF('Paired Plot Comparison'!E102<-'Paired Plot Comparison'!$N$4,\"Inconclusive(H1)\", \"Pass(H0)\")),\"Inconclusive\"),\"\")","v":""},{"$f":"IF('Paired Plot Comparison'!I102<>\"\",IF(F102=\"Pass(H0)\",1+G101,0),\"\")","v":""},{"$f":"IF('Paired Plot Comparison'!I102<>\"\",IF(G102>=$B$6,\"Verification Successful\", \"Verification not Satisfied\"),\"\")","v":""},{"$f":"IF('Paired Plot Comparison'!C102<>\"\",IF('Paired Plot Comparison'!D102<>\"\",'Paired Plot Comparison'!C102-'Paired Plot Comparison'!D102,\"\"),\"\")","v":""},0,0,{"$f":"IF(I102<>\"\",STDEV($I$11:I102),\"\")","v":""},{"$f":"IF(I102<>\"\",(($N$1+$N$3)^2*L102^2)/($L$1*'Paired Plot Comparison'!$B$3)^2,\"\")","v":""}]
[93,null,null,null,{"$f":"IF('Paired Plot Comparison'!I103<>\"\",AVERAGE('Paired Plot Comparison'!$I$11:I103),\"\")","v":""},{"$f":"IF('Paired Plot Comparison'!I103<>\"\",IF(A103>'Paired Plot Comparison'!M103,IF('Paired Plot Comparison'!E103>'Paired Plot Comparison'!$N$4,\"Inconclusive(H1)\",IF('Paired Plot Comparison'!E103<-'Paired Plot Comparison'!$N$4,\"Inconclusive(H1)\", \"Pass(H0)\")),\"Inconclusive\"),\"\")","v":""},{"$f":"IF('Paired Plot Comparison'!I103<>\"\",IF(F103=\"Pass(H0)\",1+G102,0),\"\")","v":""},{"$f":"IF('Paired Plot Comparison'!I103<>\"\",IF(G103>=$B$6,\"Verification Successful\", \"Verification not Satisfied\"),\"\")","v":""},{"$f":"IF('Paired Plot Comparison'!C103<>\"\",IF('Paired Plot Comparison'!D103<>\"\",'Paired Plot Comparison'!C103-'Paired Plot Comparison'!D103,\"\"),\"\")","v":""},0,0,{"$f":"IF(I103<>\"\",STDEV($I$11:I103),\"\")","v":""},{"$f":"IF(I103<>\"\",(($N$1+$N$3)^2*L103^2)/($L$1*'Paired Plot Comparison'!$B$3)^2,\"\")","v":""}]
[94,null,null,null,{"$f":"IF('Paired Plot Comparison'!I104<>\"\",AVERAGE('Paired Plot Comparison'!$I$11:I104),\"\")","v":""},{"$f":"IF('Paired Plot Comparison'!I104<>\"\",IF(A104>'Paired Plot Comparison'!M104,IF('Paired Plot Comparison'!E104>'Paired Plot Comparison'!$N$4,\"Inconclusive(H1)\",IF('Paired Plot Comparison'!E104<-'Paired Plot Comparison'!$N$4,\"Inconclusive(H1)\", \"Pass(H0)\")),\"Inconclusive\"),\"\")","v":""},{"$f":"IF('Paired Plot Comparison'!I104<>\"\",IF(F104=\"Pass(H0)\",1+G103,0),\"\")","v":""},{"$f":"IF('Paired Plot Comparison'!I104<>\"\",IF(G104>=$B$6,\"Verification Successful\", \"Verification not Satisfied\"),\"\")","v":""},{"$f":"IF('Paired Plot Comparison'!C104<>\"\",IF('Paired Plot Comparison'!D104<>\"\",'Paired Plot Comparison'!C104-'Paired Plot Comparison'!D104,\"\"),\"\")","v":""},0,0,{"$f":"IF(I104<>\"\",STDEV($I$11:I104),\"\")","v":""},{"$f":"IF(I104<>\"\",(($N$1+$N$3)^2*L104^2)/($L$1*'Paired Plot Comparison'!$B$3)^2,\"\")","v":""}]
[95,null,null,null,{"$f":"IF('Paired Plot Comparison'!I105<>\"\",AVERAGE('Paired Plot Comparison'!$I$11:I105),\"\")","v":""},{"$f":"IF('Paired Plot Comparison'!I105<>\"\",IF(A105>'Paired Plot Comparison'!M105,IF('Paired Plot Comparison'!E105>'Paired Plot Comparison'!$N$4,\"Inconclusive(H1)\",IF('Paired Plot Comparison'!E105<-'Paired Plot Comparison'!$N$4,\"Inconclusive(H1)\", \"Pass(H0)\")),\"Inconclusive\"),\"\")","v":""},{"$f":"IF('Paired Plot Comparison'!I105<>\"\",IF(F105=\"Pass(H0)\",1+G104,0),\"\")","v":""},{"$f":"IF('Paired Plot Comparison'!I105<>\"\",IF(G105>=$B$6,\"Verification Successful\", \"Verification not Satisfied\"),\"\")","v":""},{"$f":"IF('Paired Plot Comparison'!C105<>\"\",IF('Paired Plot Comparison'!D105<>\"\",'Paired Plot Comparison'!C105-'Paired Plot Comparison'!D105,\"\"),\"\")","v":""},0,0,{"$f":"IF(I105<>\"\",STDEV($I$11:I105),\"\")","v":""},{"$f":"IF(I105<>\"\",(($N$1+$N$3)^2*L105^2)/($L$1*'Paired Plot Comparison'!$B$3)^2,\"\")","v":""}]
[96,null,null,null,{"$f":"IF('Paired Plot Comparison'!I106<>\"\",AVERAGE('Paired Plot Comparison'!$I$11:I106),\"\")","v":""},{"$f":"IF('Paired Plot Comparison'!I106<>\"\",IF(A106>'Paired Plot Comparison'!M106,IF('Paired Plot Comparison'!E106>'Paired Plot Comparison'!$N$4,\"Inconclusive(H1)\",IF('Paired Plot Comparison'!E106<-'Paired Plot Comparison'!$N$4,\"Inconclusive(H1)\", \"Pass(H0)\")),\"Inconclusive\"),\"\")","v":""},{"$f":"IF('Paired Plot Comparison'!I106<>\"\",IF(F106=\"Pass(H0)\",1+G105,0),\"\")","v":""},{"$f":"IF('Paired Plot Comparison'!I106<>\"\",IF(G106>=$B$6,\"Verification Successful\", \"Verification not Satisfied\"),\"\")","v":""},{"$f":"IF('Paired Plot Comparison'!C106<>\"\",IF('Paired Plot Comparison'!D106<>\"\",'Paired Plot Comparison'!C106-'Paired Plot Comparison'!D106,\"\"),\"\")","v":""},0,0,{"$f":"IF(I106<>\"\",STDEV($I$11:I106),\"\")","v":""},{"$f":"IF(I106<>\"\",(($N$1+$N$3)^2*L106^2)/($L$1*'Paired Plot Comparison'!$B$3)^2,\"\")","v":""}]
[97,null,null,null,{"$f":"IF('Paired Plot Comparison'!I107<>\"\",AVERAGE('Paired Plot Comparison'!$I$11:I107),\"\")","v":""},{"$f":"IF('Paired Plot Comparison'!I107<>\"\",IF(A107>'Paired Plot Comparison'!M107,IF('Paired Plot Comparison'!E107>'Paired Plot Comparison'!$N$4,\"Inconclusive(H1)\",IF('Paired Plot Comparison'!E107<-'Paired Plot Comparison'!$N$4,\"Inconclusive(H1)\", \"Pass(H0)\")),\"Inconclusive\"),\"\")","v":""},{"$f":"IF('Paired Plot Comparison'!I107<>\"\",IF(F107=\"Pass(H0)\",1+G106,0),\"\")","v":""},{"$f":"IF('Paired Plot Comparison'!I107<>\"\",IF(G107>=$B$6,\"Verification Successful\", \"Verification not Satisfied\"),\"\")","v":""},{"$f":"IF('Paired Plot Comparison'!C107<>\"\",IF('Paired Plot Comparison'!D107<>\"\",'Paired Plot Comparison'!C107-'Paired Plot Comparison'!D107,\"\"),\"\")","v":""},0,0,{"$f":"IF(I107<>\"\",STDEV($I$11:I107),\"\")","v":""},{"$f":"IF(I107<>\"\",(($N$1+$N$3)^2*L107^2)/($L$1*'Paired Plot Comparison'!$B$3)^2,\"\")","v":""}]
[98,null,null,null,{"$f":"IF('Paired Plot Comparison'!I108<>\"\",AVERAGE('Paired Plot Comparison'!$I$11:I108),\"\")","v":""},{"$f":"IF('Paired Plot Comparison'!I108<>\"\",IF(A108>'Paired Plot Comparison'!M108,IF('Paired Plot Comparison'!E108>'Paired Plot Comparison'!$N$4,\"Inconclusive(H1)\",IF('Paired Plot Comparison'!E108<-'Paired Plot Comparison'!$N$4,\"Inconclusive(H1)\", \"Pass(H0)\")),\"Inconclusive\"),\"\")","v":""},{"$f":"IF('Paired Plot Comparison'!I108<>\"\",IF(F108=\"Pass(H0)\",1+G107,0),\"\")","v":""},{"$f":"IF('Paired Plot Comparison'!I108<>\"\",IF(G108>=$B$6,\"Verification Successful\", \"Verification not Satisfied\"),\"\")","v":""},{"$f":"IF('Paired Plot Comparison'!C108<>\"\",IF('Paired Plot Comparison'!D108<>\"\",'Paired Plot Comparison'!C108-'Paired Plot Comparison'!D108,\"\"),\"\")","v":""},0,0,{"$f":"IF(I108<>\"\",STDEV($I$11:I108),\"\")","v":""},{"$f":"IF(I108<>\"\",(($N$1+$N$3)^2*L108^2)/($L$1*'Paired Plot Comparison'!$B$3)^2,\"\")","v":""}]
[99,null,null,null,{"$f":"IF('Paired Plot Comparison'!I109<>\"\",AVERAGE('Paired Plot Comparison'!$I$11:I109),\"\")","v":""},{"$f":"IF('Paired Plot Comparison'!I109<>\"\",IF(A109>'Paired Plot Comparison'!M109,IF('Paired Plot Comparison'!E109>'Paired Plot Comparison'!$N$4,\"Inconclusive(H1)\",IF('Paired Plot Comparison'!E109<-'Paired Plot Comparison'!$N$4,\"Inconclusive(H1)\", \"Pass(H0)\")),\"Inconclusive\"),\"\")","v":""},{"$f":"IF('Paired Plot Comparison'!I109<>\"\",IF(F109=\"Pass(H0)\",1+G108,0),\"\")","v":""},{"$f":"IF('Paired Plot Comparison'!I109<>\"\",IF(G109>=$B$6,\"Verification Successful\", \"Verification not Satisfied\"),\"\")","v":""},{"$f":"IF('Paired Plot Comparison'!C109<>\"\",IF('Paired Plot Comparison'!D109<>\"\",'Paired Plot Comparison'!C109-'Paired Plot Comparison'!D109,\"\"),\"\")","v":""},0,0,{"$f":"IF(I109<>\"\",STDEV($I$11:I109),\"\")","v":""},{"$f":"IF(I109<>\"\",(($N$1+$N$3)^2*L109^2)/($L$1*'Paired Plot Comparison'!$B$3)^2,\"\")","v":""}]
[100,null,null,null,{"$f":"IF('Paired Plot Comparison'!I110<>\"\",AVERAGE('Paired Plot Comparison'!$I$11:I110),\"\")","v":""},{"$f":"IF('Paired Plot Comparison'!I110<>\"\",IF(A110>'Paired Plot Comparison'!M110,IF('Paired Plot Comparison'!E110>'Paired Plot Comparison'!$N$4,\"Inconclusive(H1)\",IF('Paired Plot Comparison'!E110<-'Paired Plot Comparison'!$N$4,\"Inconclusive(H1)\", \"Pass(H0)\")),\"Inconclusive\"),\"\")","v":""},{"$f":"IF('Paired Plot Comparison'!I110<>\"\",IF(F110=\"Pass(H0)\",1+G109,0),\"\")","v":""},{"$f":"IF('Paired Plot Comparison'!I110<>\"\",IF(G110>=$B$6,\"Verification Successful\", \"Verification not Satisfied\"),\"\")","v":""},{"$f":"IF('Paired Plot Comparison'!C110<>\"\",IF('Paired Plot Comparison'!D110<>\"\",'Paired Plot Comparison'!C110-'Paired Plot Comparison'!D110,\"\"),\"\")","v":""},0,0,{"$f":"IF(I110<>\"\",STDEV($I$11:I110),\"\")","v":""},{"$f":"IF(I110<>\"\",(($N$1+$N$3)^2*L110^2)/($L$1*'Paired Plot Comparison'!$B$3)^2,\"\")","v":""}]
[]
["The calculations and summaries in this worksheet are correct to the best of our knowledge.  RGGI and its contractors shall not be liable for any errors in the calculations and summaries in this worksheet.  Confirming the accuracy of calculations and summaries used for GHG reporting is the sole responsibility of the Project Sponsor."]

{"sheet":"Unpaired Plot Comparison","index":1,"n_rows":128,"n_cols":16,"rows_kept":128,"cut":false,"hidden":false,"merged":[[5,2,5,3],[0,0,0,7],[127,0,127,5],[1,0,1,7]]}
["Sequential Sampling Worksheet for Verification Inventory where Project Plots are Not Monumented "]
["(Unpaired Plot Comparison)"]
["Allowance:",0.1,"Number of Strata in Verification Sample:",1,null,null,null,null,null,null,null,null,null,"max",400]
["Alpha:",0.05,"Project Acreage:","501-5,000",null,null,null,null,null,null,null,null,null,"min",300]
["Project/Stratum  n:",null,"Minimum Number of Passing Plots in Sequence:",{"$f":"plotnumber(D3, D4)","v":16},null,null,null,null,null,null,null,null,"a:",{"$f":"NORMINV($B$4/2,0,1)","v":-1.9599639845400538}]
["Project/Stratum Mean \n(metric tons CO2e/acre):",null,null,null,null,null,null,null,null,null,null,null,"d:",{"$f":"B6*B3","v":0}]
["Project/Stratum SD \n(metric tons CO2e/acre):"]
["Verifier Plot  (n)","Verification Estimate \n(metric tons CO2e/acre)","Running Examination/Plot Success","Number of Passing Plots in Sequence","Status of Verification","Running Mean","All Plots (Verifier + Project) n","Upper","Lower","Running SD","n_Threshold","Tn","Calculations",null,"N","n"]
[1,null,{"$f":"IF(B9<>\"\",IF(ABS(B9-B6)<(B3*B6),\"Pass(H0)\",\"Inconclusive(H1)\"),\"\")","v":""},{"$f":"IF(F9<>\"\",IF(C9=\"Pass(H0)\",1,0),\"\")","v":0},{"$f":"IF(F9<>\"\",IF(D9>=$D$5,\"Verification Successful\", \"Verification not Satisfied\"),\"\")","v":"Verification not Satisfied"},{"$f":"B9","v":0},{"$f":"$B$5+A9","v":1},null,null,null,null,null,{"$f":"IF(C9<>\"Again\",1,0)","v":1},{"$f":"A9","v":1},{"$f":"VLOOKUP(1,$M$9:$N$108,2,FALSE)","v":1},{"$f":"MIN(VLOOKUP(1,$M$9:$N$108,2,TRUE),O9)","v":1}]
[2,null,{"$f":"IF(B10<>\"\",IF(G10>=K10,IF(H10<=0,IF(I10>=0,\"Pass(H0)\",\"Inconclusive(H1)\"),\"Inconclusive(H1)\"),\"Inconclusive\"),\"\")","v":""},{"$f":"IF(F10<>\"\",IF(C10=\"Pass(H0)\",1+D9,0),\"\")","v":""},"",{"$f":"IF(B10<>\"\",AVERAGE(B$9:$B10),\"\")","v":""},2,{"$f":"IF(B10<>\"\",L10-$N$6,\"\")","v":""},{"$f":"IF(B10<>\"\",L10+$N$6,\"\")","v":""},{"$f":"IF(B10<>\"\",STDEV(B$9:$B10),\"\")","v":""},{"$f":"IF(B10<>\"\",($N$5^2/$N$6^2)*($B$7^2+J10^2),\"\")","v":""},{"$f":"IF(B10<>\"\",$B$6-F10,\"\")","v":""},1,2,{"$f":"ADDRESS(11+O9-1,4)","v":"$D$11"},{"$f":"ADDRESS(11+P9,4)","v":"$D$12"}]
[3,null,"","","",{"$f":"IF(B11<>\"\",AVERAGE(B$9:$B11),\"\")","v":""},3,"","",{"$f":"IF(B11<>\"\",STDEV(B$9:$B11),\"\")","v":""},"","",1,3]
[4,null,"","","",{"$f":"IF(B12<>\"\",AVERAGE(B$9:$B12),\"\")","v":""},4,"","",{"$f":"IF(B12<>\"\",STDEV(B$9:$B12),\"\")","v":""},"","",1,4]
[5,null,"","","",{"$f":"IF(B13<>\"\",AVERAGE(B$9:$B13),\"\")","v":""},5,"","",{"$f":"IF(B13<>\"\",STDEV(B$9:$B13),\"\")","v":""},"","",1,5]
[6,null,"","","",{"$f":"IF(B14<>\"\",AVERAGE(B$9:$B14),\"\")","v":""},6,"","",{"$f":"IF(B14<>\"\",STDEV(B$9:$B14),\"\")","v":""},"","",1,6]
[7,null,"","","",{"$f":"IF(B15<>\"\",AVERAGE(B$9:$B15),\"\")","v":""},7,"","",{"$f":"IF(B15<>\"\",STDEV(B$9:$B15),\"\")","v":""},"","",1,7]
[8,null,"","","",{"$f":"IF(B16<>\"\",AVERAGE(B$9:$B16),\"\")","v":""},8,"","",{"$f":"IF(B16<>\"\",STDEV(B$9:$B16),\"\")","v":""},"","",1,8]
[9,null,"","","",{"$f":"IF(B17<>\"\",AVERAGE(B$9:$B17),\"\")","v":""},9,"","",{"$f":"IF(B17<>\"\",STDEV(B$9:$B17),\"\")","v":""},"","",1,9]
[10,null,"","","",{"$f":"IF(B18<>\"\",AVERAGE(B$9:$B18),\"\")","v":""},10,"","",{"$f":"IF(B18<>\"\",STDEV(B$9:$B18),\"\")","v":""},"","",1,10]
[11,null,"","","",{"$f":"IF(B19<>\"\",AVERAGE(B$9:$B19),\"\")","v":""},11,"","",{"$f":"IF(B19<>\"\",STDEV(B$9:$B19),\"\")","v":""},"","",1,11]
[12,null,"","","",{"$f":"IF(B20<>\"\",AVERAGE(B$9:$B20),\"\")","v":""},12,"","",{"$f":"IF(B20<>\"\",STDEV(B$9:$B20),\"\")","v":""},"","",1,12]
[13,null,"","","",{"$f":"IF(B21<>\"\",AVERAGE(B$9:$B21),\"\")","v":""},13,"","",{"$f":"IF(B21<>\"\",STDEV(B$9:$B21),\"\")","v":""},"","",1,13]
[14,null,"","","",{"$f":"IF(B22<>\"\",AVERAGE(B$9:$B22),\"\")","v":""},14,"","",{"$f":"IF(B22<>\"\",STDEV(B$9:$B22),\"\")","v":""},"","",1,14]
[15,null,"","","",{"$f":"IF(B23<>\"\",AVERAGE(B$9:$B23),\"\")","v":""},15,"","",{"$f":"IF(B23<>\"\",STDEV(B$9:$B23),\"\")","v":""},"","",1,15]
[16,null,"","","",{"$f":"IF(B24<>\"\",AVERAGE(B$9:$B24),\"\")","v":""},16,"","",{"$f":"IF(B24<>\"\",STDEV(B$9:$B24),\"\")","v":""},"","",1,16]
[17,null,"","","",{"$f":"IF(B25<>\"\",AVERAGE(B$9:$B25),\"\")","v":""},17,"","",{"$f":"IF(B25<>\"\",STDEV(B$9:$B25),\"\")","v":""},"","",1,17]
[18,null,"","","",{"$f":"IF(B26<>\"\",AVERAGE(B$9:$B26),\"\")","v":""},18,"","",{"$f":"IF(B26<>\"\",STDEV(B$9:$B26),\"\")","v":""},"","",1,18]
[19,null,"","","",{"$f":"IF(B27<>\"\",AVERAGE(B$9:$B27),\"\")","v":""},19,"","",{"$f":"IF(B27<>\"\",STDEV(B$9:$B27),\"\")","v":""},"","",1,19]
[20,null,"","","",{"$f":"IF(B28<>\"\",AVERAGE(B$9:$B28),\"\")","v":""},20,"","",{"$f":"IF(B28<>\"\",STDEV(B$9:$B28),\"\")","v":""},"","",1,20]
[21,null,"","","",{"$f":"IF(B29<>\"\",AVERAGE(B$9:$B29),\"\")","v":""},21,"","",{"$f":"IF(B29<>\"\",STDEV(B$9:$B29),\"\")","v":""},"","",1,21]
[22,null,"","","",{"$f":"IF(B30<>\"\",AVERAGE(B$9:$B30),\"\")","v":""},22,"","",{"$f":"IF(B30<>\"\",STDEV(B$9:$B30),\"\")","v":""},"","",1,22]
[23,null,"","","",{"$f":"IF(B31<>\"\",AVERAGE(B$9:$B31),\"\")","v":""},23,"","",{"$f":"IF(B31<>\"\",STDEV(B$9:$B31),\"\")","v":""},"","",1,23]
[24,null,"","","",{"$f":"IF(B32<>\"\",AVERAGE(B$9:$B32),\"\")","v":""},24,"","",{"$f":"IF(B32<>\"\",STDEV(B$9:$B32),\"\")","v":""},"","",1,24]
[25,null,"","","",{"$f":"IF(B33<>\"\",AVERAGE(B$9:$B33),\"\")","v":""},25,"","",{"$f":"IF(B33<>\"\",STDEV(B$9:$B33),\"\")","v":""},"","",1,25]
[26,null,"","","",{"$f":"IF(B34<>\"\",AVERAGE(B$9:$B34),\"\")","v":""},26,"","",{"$f":"IF(B34<>\"\",STDEV(B$9:$B34),\"\")","v":""},"","",1,26]
[27,null,"","","",{"$f":"IF(B35<>\"\",AVERAGE(B$9:$B35),\"\")","v":""},27,"","",{"$f":"IF(B35<>\"\",STDEV(B$9:$B35),\"\")","v":""},"","",1,27]
[28,null,"","","",{"$f":"IF(B36<>\"\",AVERAGE(B$9:$B36),\"\")","v":""},28,"","",{"$f":"IF(B36<>\"\",STDEV(B$9:$B36),\"\")","v":""},"","",1,28]
[29,null,"","","",{"$f":"IF(B37<>\"\",AVERAGE(B$9:$B37),\"\")","v":""},29,"","",{"$f":"IF(B37<>\"\",STDEV(B$9:$B37),\"\")","v":""},"","",1,29]
[30,null,"","","",{"$f":"IF(B38<>\"\",AVERAGE(B$9:$B38),\"\")","v":""},30,"","",{"$f":"IF(B38<>\"\",STDEV(B$9:$B38),\"\")","v":""},"","",1,30]
[31,null,"","","",{"$f":"IF(B39<>\"\",AVERAGE(B$9:$B39),\"\")","v":""},31,"","",{"$f":"IF(B39<>\"\",STDEV(B$9:$B39),\"\")","v":""},"","",1,31]
[32,null,"","","",{"$f":"IF(B40<>\"\",AVERAGE(B$9:$B40),\"\")","v":""},32,"","",{"$f":"IF(B40<>\"\",STDEV(B$9:$B40),\"\")","v":""},"","",1,32]
[33,null,"","",{"$f":"IF(F41<>\"\",IF(D41>=$D$5,\"Verification Successful\", \"Verification not Satisfied\"),\"\")","v":""},{"$f":"IF(B41<>\"\",AVERAGE(B$9:$B41),\"\")","v":""},{"$f":"$B$5+A41","v":33},"","",{"$f":"IF(B41<>\"\",STDEV(B$9:$B41),\"\")","v":""},"","",{"$f":"IF(C41<>\"Again\",1,0)","v":1},{"$f":"A41","v":33}]
[34,null,{"$f":"IF(B42<>\"\",IF(G42>=K42,IF(H42<=0,IF(I42>=0,\"Pass(H0)\",\"Inconclusive(H1)\"),\"Inconclusive(H1)\"),\"Inconclusive\"),\"\")","v":""},{"$f":"IF(F42<>\"\",IF(C42=\"Pass(H0)\",1+D41,0),\"\")","v":""},"",{"$f":"IF(B42<>\"\",AVERAGE(B$9:$B42),\"\")","v":""},34,{"$f":"IF(B42<>\"\",L42-$N$6,\"\")","v":""},{"$f":"IF(B42<>\"\",L42+$N$6,\"\")","v":""},{"$f":"IF(B42<>\"\",STDEV(B$9:$B42),\"\")","v":""},{"$f":"IF(B42<>\"\",($N$5^2/$N$6^2)*($B$7^2+J42^2),\"\")","v":""},{"$f":"IF(B42<>\"\",$B$6-F42,\"\")","v":""},1,34]
[35,null,"","","",{"$f":"IF(B43<>\"\",AVERAGE(B$9:$B43),\"\")","v":""},35,"","",{"$f":"IF(B43<>\"\",STDEV(B$9:$B43),\"\")","v":""},"","",1,35]
[36,null,"","","",{"$f":"IF(B44<>\"\",AVERAGE(B$9:$B44),\"\")","v":""},36,"","",{"$f":"IF(B44<>\"\",STDEV(B$9:$B44),\"\")","v":""},"","",1,36]
[37,null,"","","",{"$f":"IF(B45<>\"\",AVERAGE(B$9:$B45),\"\")","v":""},37,"","",{"$f":"IF(B45<>\"\",STDEV(B$9:$B45),\"\")","v":""},"","",1,37]
[38,null,"","","",{"$f":"IF(B46<>\"\",AVERAGE(B$9:$B46),\"\")","v":""},38,"","",{"$f":"IF(B46<>\"\",STDEV(B$9:$B46),\"\")","v":""},"","",1,38]
[39,null,"","","",{"$f":"IF(B47<>\"\",AVERAGE(B$9:$B47),\"\")","v":""},39,"","",{"$f":"IF(B47<>\"\",STDEV(B$9:$B47),\"\")","v":""},"","",1,39]
[40,null,"","","",{"$f":"IF(B48<>\"\",AVERAGE(B$9:$B48),\"\")","v":""},40,"","",{"$f":"IF(B48<>\"\",STDEV(B$9:$B48),\"\")","v":""},"","",1,40]
[41,null,"","","",{"$f":"IF(B49<>\"\",AVERAGE(B$9:$B49),\"\")","v":""},41,"","",{"$f":"IF(B49<>\"\",STDEV(B$9:$B49),\"\")","v":""},"","",1,41]
[42,null,"","","",{"$f":"IF(B50<>\"\",AVERAGE(B$9:$B50),\"\")","v":""},42,"","",{"$f":"IF(B50<>\"\",STDEV(B$9:$B50),\"\")","v":""},"","",1,42]
[43,null,"","","",{"$f":"IF(B51<>\"\",AVERAGE(B$9:$B51),\"\")","v":""},43,"","",{"$f":"IF(B51<>\"\",STDEV(B$9:$B51),\"\")","v":""},"","",1,43]
[44,null,"","","",{"$f":"IF(B52<>\"\",AVERAGE(B$9:$B52),\"\")","v":""},44,"","",{"$f":"IF(B52<>\"\",STDEV(B$9:$B52),\"\")","v":""},"","",1,44]
[45,null,"","","",{"$f":"IF(B53<>\"\",AVERAGE(B$9:$B53),\"\")","v":""},45,"","",{"$f":"IF(B53<>\"\",STDEV(B$9:$B53),\"\")","v":""},"","",1,45]
[46,null,"","","",{"$f":"IF(B54<>\"\",AVERAGE(B$9:$B54),\"\")","v":""},46,"","",{"$f":"IF(B54<>\"\",STDEV(B$9:$B54),\"\")","v":""},"","",1,46]
[47,null,"","","",{"$f":"IF(B55<>\"\",AVERAGE(B$9:$B55),\"\")","v":""},47,"","",{"$f":"IF(B55<>\"\",STDEV(B$9:$B55),\"\")","v":""},"","",1,47]
[48,null,"","","",{"$f":"IF(B56<>\"\",AVERAGE(B$9:$B56),\"\")","v":""},48,"","",{"$f":"IF(B56<>\"\",STDEV(B$9:$B56),\"\")","v":""},"","",1,48]
[49,null,"","","",{"$f":"IF(B57<>\"\",AVERAGE(B$9:$B57),\"\")","v":""},49,"","",{"$f":"IF(B57<>\"\",STDEV(B$9:$B57),\"\")","v":""},"","",1,49]
[50,null,"","","",{"$f":"IF(B58<>\"\",AVERAGE(B$9:$B58),\"\")","v":""},50,"","",{"$f":"IF(B58<>\"\",STDEV(B$9:$B58),\"\")","v":""},"","",1,50]
[51,null,"","","",{"$f":"IF(B59<>\"\",AVERAGE(B$9:$B59),\"\")","v":""},51,"","",{"$f":"IF(B59<>\"\",STDEV(B$9:$B59),\"\")","v":""},"","",1,51]
[52,null,"","","",{"$f":"IF(B60<>\"\",AVERAGE(B$9:$B60),\"\")","v":""},52,"","",{"$f":"IF(B60<>\"\",STDEV(B$9:$B60),\"\")","v":""},"","",1,52]
[53,null,"","","",{"$f":"IF(B61<>\"\",AVERAGE(B$9:$B61),\"\")","v":""},53,"","",{"$f":"IF(B61<>\"\",STDEV(B$9:$B61),\"\")","v":""},"","",1,53]
[54,null,"","","",{"$f":"IF(B62<>\"\",AVERAGE(B$9:$B62),\"\")","v":""},54,"","",{"$f":"IF(B62<>\"\",STDEV(B$9:$B62),\"\")","v":""},"","",1,54]
[55,null,"","","",{"$f":"IF(B63<>\"\",AVERAGE(B$9:$B63),\"\")","v":""},55,"","",{"$f":"IF(B63<>\"\",STDEV(B$9:$B63),\"\")","v":""},"","",1,55]
[56,null,"","","",{"$f":"IF(B64<>\"\",AVERAGE(B$9:$B64),\"\")","v":""},56,"","",{"$f":"IF(B64<>\"\",STDEV(B$9:$B64),\"\")","v":""},"","",1,56]
[57,null,"","","",{"$f":"IF(B65<>\"\",AVERAGE(B$9:$B65),\"\")","v":""},57,"","",{"$f":"IF(B65<>\"\",STDEV(B$9:$B65),\"\")","v":""},"","",1,57]
[58,null,"","","",{"$f":"IF(B66<>\"\",AVERAGE(B$9:$B66),\"\")","v":""},58,"","",{"$f":"IF(B66<>\"\",STDEV(B$9:$B66),\"\")","v":""},"","",1,58]
[59,null,"","","",{"$f":"IF(B67<>\"\",AVERAGE(B$9:$B67),\"\")","v":""},59,"","",{"$f":"IF(B67<>\"\",STDEV(B$9:$B67),\"\")","v":""},"","",1,59]
[60,null,"","","",{"$f":"IF(B68<>\"\",AVERAGE(B$9:$B68),\"\")","v":""},60,"","",{"$f":"IF(B68<>\"\",STDEV(B$9:$B68),\"\")","v":""},"","",1,60]
[61,null,"","","",{"$f":"IF(B69<>\"\",AVERAGE(B$9:$B69),\"\")","v":""},61,"","",{"$f":"IF(B69<>\"\",STDEV(B$9:$B69),\"\")","v":""},"","",1,61]
[62,null,"","","",{"$f":"IF(B70<>\"\",AVERAGE(B$9:$B70),\"\")","v":""},62,"","",{"$f":"IF(B70<>\"\",STDEV(B$9:$B70),\"\")","v":""},"","",1,62]
[63,null,"","","",{"$f":"IF(B71<>\"\",AVERAGE(B$9:$B71),\"\")","v":""},63,"","",{"$f":"IF(B71<>\"\",STDEV(B$9:$B71),\"\")","v":""},"","",1,63]
[64,null,"","","",{"$f":"IF(B72<>\"\",AVERAGE(B$9:$B72),\"\")","v":""},64,"","",{"$f":"IF(B72<>\"\",STDEV(B$9:$B72),\"\")","v":""},"","",1,64]
[65,null,"","",{"$f":"IF(F73<>\"\",IF(D73>=$D$5,\"Verification Successful\", \"Verification not Satisfied\"),\"\")","v":""},{"$f":"IF(B73<>\"\",AVERAGE(B$9:$B73),\"\")","v":""},{"$f":"$B$5+A73","v":65},"","",{"$f":"IF(B73<>\"\",STDEV(B$9:$B73),\"\")","v":""},"","",{"$f":"IF(C73<>\"Again\",1,0)","v":1},{"$f":"A73","v":65}]
[66,null,{"$f":"IF(B74<>\"\",IF(G74>=K74,IF(H74<=0,IF(I74>=0,\"Pass(H0)\",\"Inconclusive(H1)\"),\"Inconclusive(H1)\"),\"Inconclusive\"),\"\")","v":""},{"$f":"IF(F74<>\"\",IF(C74=\"Pass(H0)\",1+D73,0),\"\")","v":""},"",{"$f":"IF(B74<>\"\",AVERAGE(B$9:$B74),\"\")","v":""},66,{"$f":"IF(B74<>\"\",L74-$N$6,\"\")","v":""},{"$f":"IF(B74<>\"\",L74+$N$6,\"\")","v":""},{"$f":"IF(B74<>\"\",STDEV(B$9:$B74),\"\")","v":""},{"$f":"IF(B74<>\"\",($N$5^2/$N$6^2)*($B$7^2+J74^2),\"\")","v":""},{"$f":"IF(B74<>\"\",$B$6-F74,\"\")","v":""},1,66]
[67,null,"","","",{"$f":"IF(B75<>\"\",AVERAGE(B$9:$B75),\"\")","v":""},67,"","",{"$f":"IF(B75<>\"\",STDEV(B$9:$B75),\"\")","v":""},"","",1,67]
[68,null,"","","",{"$f":"IF(B76<>\"\",AVERAGE(B$9:$B76),\"\")","v":""},68,"","",{"$f":"IF(B76<>\"\",STDEV(B$9:$B76),\"\")","v":""},"","",1,68]
[69,null,"","","",{"$f":"IF(B77<>\"\",AVERAGE(B$9:$B77),\"\")","v":""},69,"","",{"$f":"IF(B77<>\"\",STDEV(B$9:$B77),\"\")","v":""},"","",1,69]
[70,null,"","","",{"$f":"IF(B78<>\"\",AVERAGE(B$9:$B78),\"\")","v":""},70,"","",{"$f":"IF(B78<>\"\",STDEV(B$9:$B78),\"\")","v":""},"","",1,70]
[71,null,"","","",{"$f":"IF(B79<>\"\",AVERAGE(B$9:$B79),\"\")","v":""},71,"","",{"$f":"IF(B79<>\"\",STDEV(B$9:$B79),\"\")","v":""},"","",1,71]
[72,null,"","","",{"$f":"IF(B80<>\"\",AVERAGE(B$9:$B80),\"\")","v":""},72,"","",{"$f":"IF(B80<>\"\",STDEV(B$9:$B80),\"\")","v":""},"","",1,72]
[73,null,"","","",{"$f":"IF(B81<>\"\",AVERAGE(B$9:$B81),\"\")","v":""},73,"","",{"$f":"IF(B81<>\"\",STDEV(B$9:$B81),\"\")","v":""},"","",1,73]
[74,null,"","","",{"$f":"IF(B82<>\"\",AVERAGE(B$9:$B82),\"\")","v":""},74,"","",{"$f":"IF(B82<>\"\",STDEV(B$9:$B82),\"\")","v":""},"","",1,74]
[75,null,"","","",{"$f":"IF(B83<>\"\",AVERAGE(B$9:$B83),\"\")","v":""},75,"","",{"$f":"IF(B83<>\"\",STDEV(B$9:$B83),\"\")","v":""},"","",1,75]
[76,null,"","","",{"$f":"IF(B84<>\"\",AVERAGE(B$9:$B84),\"\")","v":""},76,"","",{"$f":"IF(B84<>\"\",STDEV(B$9:$B84),\"\")","v":""},"","",1,76]
[77,null,"","","",{"$f":"IF(B85<>\"\",AVERAGE(B$9:$B85),\"\")","v":""},77,"","",{"$f":"IF(B85<>\"\",STDEV(B$9:$B85),\"\")","v":""},"","",1,77]
[78,null,"","","",{"$f":"IF(B86<>\"\",AVERAGE(B$9:$B86),\"\")","v":""},78,"","",{"$f":"IF(B86<>\"\",STDEV(B$9:$B86),\"\")","v":""},"","",1,78]
[79,null,"","","",{"$f":"IF(B87<>\"\",AVERAGE(B$9:$B87),\"\")","v":""},79,"","",{"$f":"IF(B87<>\"\",STDEV(B$9:$B87),\"\")","v":""},"","",1,79]
[80,null,"","","",{"$f":"IF(B88<>\"\",AVERAGE(B$9:$B88),\"\")","v":""},80,"","",{"$f":"IF(B88<>\"\",STDEV(B$9:$B88),\"\")","v":""},"","",1,80]
[81,null,"","","",{"$f":"IF(B89<>\"\",AVERAGE(B$9:$B89),\"\")","v":""},81,"","",{"$f":"IF(B89<>\"\",STDEV(B$9:$B89),\"\")","v":""},"","",1,81]
[82,null,"","","",{"$f":"IF(B90<>\"\",AVERAGE(B$9:$B90),\"\")","v":""},82,"","",{"$f":"IF(B90<>\"\",STDEV(B$9:$B90),\"\")","v":""},"","",1,82]
[83,null,"","","",{"$f":"IF(B91<>\"\",AVERAGE(B$9:$B91),\"\")","v":""},83,"","",{"$f":"IF(B91<>\"\",STDEV(B$9:$B91),\"\")","v":""},"","",1,83]
[84,null,"","","",{"$f":"IF(B92<>\"\",AVERAGE(B$9:$B92),\"\")","v":""},84,"","",{"$f":"IF(B92<>\"\",STDEV(B$9:$B92),\"\")","v":""},"","",1,84]
[85,null,"","","",{"$f":"IF(B93<>\"\",AVERAGE(B$9:$B93),\"\")","v":""},85,"","",{"$f":"IF(B93<>\"\",STDEV(B$9:$B93),\"\")","v":""},"","",1,85]
[86,null,"","","",{"$f":"IF(B94<>\"\",AVERAGE(B$9:$B94),\"\")","v":""},86,"","",{"$f":"IF(B94<>\"\",STDEV(B$9:$B94),\"\")","v":""},"","",1,86]
[87,null,"","","",{"$f":"IF(B95<>\"\",AVERAGE(B$9:$B95),\"\")","v":""},87,"","",{"$f":"IF(B95<>\"\",STDEV(B$9:$B95),\"\")","v":""},"","",1,87]
[88,null,"","","",{"$f":"IF(B96<>\"\",AVERAGE(B$9:$B96),\"\")","v":""},88,"","",{"$f":"IF(B96<>\"\",STDEV(B$9:$B96),\"\")","v":""},"","",1,88]
[89,null,"","","",{"$f":"IF(B97<>\"\",AVERAGE(B$9:$B97),\"\")","v":""},89,"","",{"$f":"IF(B97<>\"\",STDEV(B$9:$B97),\"\")","v":""},"","",1,89]
[90,null,"","","",{"$f":"IF(B98<>\"\",AVERAGE(B$9:$B98),\"\")","v":""},90,"","",{"$f":"IF(B98<>\"\",STDEV(B$9:$B98),\"\")","v":""},"","",1,90]
[91,null,"","","",{"$f":"IF(B99<>\"\",AVERAGE(B$9:$B99),\"\")","v":""},91,"","",{"$f":"IF(B99<>\"\",STDEV(B$9:$B99),\"\")","v":""},"","",1,91]
[92,null,"","","",{"$f":"IF(B100<>\"\",AVERAGE(B$9:$B100),\"\")","v":""},92,"","",{"$f":"IF(B100<>\"\",STDEV(B$9:$B100),\"\")","v":""},"","",1,92]
[93,null,"","","",{"$f":"IF(B101<>\"\",AVERAGE(B$9:$B101),\"\")","v":""},93,"","",{"$f":"IF(B101<>\"\",STDEV(B$9:$B101),\"\")","v":""},"","",1,93]
[94,null,"","","",{"$f":"IF(B102<>\"\",AVERAGE(B$9:$B102),\"\")","v":""},94,"","",{"$f":"IF(B102<>\"\",STDEV(B$9:$B102),\"\")","v":""},"","",1,94]
[95,null,"","","",{"$f":"IF(B103<>\"\",AVERAGE(B$9:$B103),\"\")","v":""},95,"","",{"$f":"IF(B103<>\"\",STDEV(B$9:$B103),\"\")","v":""},"","",1,95]
[96,null,"","","",{"$f":"IF(B104<>\"\",AVERAGE(B$9:$B104),\"\")","v":""},96,"","",{"$f":"IF(B104<>\"\",STDEV(B$9:$B104),\"\")","v":""},"","",1,96]
[97,null,"","",{"$f":"IF(F105<>\"\",IF(D105>=$D$5,\"Verification Successful\", \"Verification not Satisfied\"),\"\")","v":""},{"$f":"IF(B105<>\"\",AVERAGE(B$9:$B105),\"\")","v":""},{"$f":"$B$5+A105","v":97},"","",{"$f":"IF(B105<>\"\",STDEV(B$9:$B105),\"\")","v":""},"","",{"$f":"IF(C105<>\"Again\",1,0)","v":1},{"$f":"A105","v":97}]
[98,null,{"$f":"IF(B106<>\"\",IF(G106>=K106,IF(H106<=0,IF(I106>=0,\"Pass(H0)\",\"Inconclusive(H1)\"),\"Inconclusive(H1)\"),\"Inconclusive\"),\"\")","v":""},{"$f":"IF(F106<>\"\",IF(C106=\"Pass(H0)\",1+D105,0),\"\")","v":""},"",{"$f":"IF(B106<>\"\",AVERAGE(B$9:$B106),\"\")","v":""},98,{"$f":"IF(B106<>\"\",L106-$N$6,\"\")","v":""},{"$f":"IF(B106<>\"\",L106+$N$6,\"\")","v":""},{"$f":"IF(B106<>\"\",STDEV(B$9:$B106),\"\")","v":""},{"$f":"IF(B106<>\"\",($N$5^2/$N$6^2)*($B$7^2+J106^2),\"\")","v":""},{"$f":"IF(B106<>\"\",$B$6-F106,\"\")","v":""},1,98]
[99,null,"","","",{"$f":"IF(B107<>\"\",AVERAGE(B$9:$B107),\"\")","v":""},99,"","",{"$f":"IF(B107<>\"\",STDEV(B$9:$B107),\"\")","v":""},"","",1,99]
[100,null,"","","",{"$f":"IF(B108<>\"\",AVERAGE(B$9:$B108),\"\")","v":""},100,"","",{"$f":"IF(B108<>\"\",STDEV(B$9:$B108),\"\")","v":""},"","",1,100]
[101,null,"","","",{"$f":"IF(B109<>\"\",AVERAGE(B$9:$B109),\"\")","v":""},101,"","",{"$f":"IF(B109<>\"\",STDEV(B$9:$B109),\"\")","v":""},"","",1,101]
[102,null,"","","",{"$f":"IF(B110<>\"\",AVERAGE(B$9:$B110),\"\")","v":""},102,"","",{"$f":"IF(B110<>\"\",STDEV(B$9:$B110),\"\")","v":""},"","",1,102]
[103,null,"","","",{"$f":"IF(B111<>\"\",AVERAGE(B$9:$B111),\"\")","v":""},103,"","",{"$f":"IF(B111<>\"\",STDEV(B$9:$B111),\"\")","v":""},"","",1,103]
[104,null,"","","",{"$f":"IF(B112<>\"\",AVERAGE(B$9:$B112),\"\")","v":""},104,"","",{"$f":"IF(B112<>\"\",STDEV(B$9:$B112),\"\")","v":""},"","",1,104]
[105,null,"","","",{"$f":"IF(B113<>\"\",AVERAGE(B$9:$B113),\"\")","v":""},105,"","",{"$f":"IF(B113<>\"\",STDEV(B$9:$B113),\"\")","v":""},"","",1,105]
[106,null,"","","",{"$f":"IF(B114<>\"\",AVERAGE(B$9:$B114),\"\")","v":""},106,"","",{"$f":"IF(B114<>\"\",STDEV(B$9:$B114),\"\")","v":""},"","",1,106]
[107,null,"","","",{"$f":"IF(B115<>\"\",AVERAGE(B$9:$B115),\"\")","v":""},107,"","",{"$f":"IF(B115<>\"\",STDEV(B$9:$B115),\"\")","v":""},"","",1,107]
[108,null,"","","",{"$f":"IF(B116<>\"\",AVERAGE(B$9:$B116),\"\")","v":""},108,"","",{"$f":"IF(B116<>\"\",STDEV(B$9:$B116),\"\")","v":""},"","",1,108]
[109,null,"","","",{"$f":"IF(B117<>\"\",AVERAGE(B$9:$B117),\"\")","v":""},109,"","",{"$f":"IF(B117<>\"\",STDEV(B$9:$B117),\"\")","v":""},"","",1,109]
[110,null,"","","",{"$f":"IF(B118<>\"\",AVERAGE(B$9:$B118),\"\")","v":""},110,"","",{"$f":"IF(B118<>\"\",STDEV(B$9:$B118),\"\")","v":""},"","",1,110]
[111,null,"","","",{"$f":"IF(B119<>\"\",AVERAGE(B$9:$B119),\"\")","v":""},111,"","",{"$f":"IF(B119<>\"\",STDEV(B$9:$B119),\"\")","v":""},"","",1,111]
[112,null,"","","",{"$f":"IF(B120<>\"\",AVERAGE(B$9:$B120),\"\")","v":""},112,"","",{"$f":"IF(B120<>\"\",STDEV(B$9:$B120),\"\")","v":""},"","",1,112]
[113,null,"","","",{"$f":"IF(B121<>\"\",AVERAGE(B$9:$B121),\"\")","v":""},113,"","",{"$f":"IF(B121<>\"\",STDEV(B$9:$B121),\"\")","v":""},"","",1,113]
[114,null,"","","",{"$f":"IF(B122<>\"\",AVERAGE(B$9:$B122),\"\")","v":""},114,"","",{"$f":"IF(B122<>\"\",STDEV(B$9:$B122),\"\")","v":""},"","",1,114]
[115,null,"","","",{"$f":"IF(B123<>\"\",AVERAGE(B$9:$B123),\"\")","v":""},115,"","",{"$f":"IF(B123<>\"\",STDEV(B$9:$B123),\"\")","v":""},"","",1,115]
[116,null,"","","",{"$f":"IF(B124<>\"\",AVERAGE(B$9:$B124),\"\")","v":""},116,"","",{"$f":"IF(B124<>\"\",STDEV(B$9:$B124),\"\")","v":""},"","",1,116]
[117,null,"","","",{"$f":"IF(B125<>\"\",AVERAGE(B$9:$B125),\"\")","v":""},117,"","",{"$f":"IF(B125<>\"\",STDEV(B$9:$B125),\"\")","v":""},"","",1,117]
[118,null,"","","",{"$f":"IF(B126<>\"\",AVERAGE(B$9:$B126),\"\")","v":""},118,"","",{"$f":"IF(B126<>\"\",STDEV(B$9:$B126),\"\")","v":""},"","",1,118]
[]
["The calculations and summaries in this worksheet are correct to the best of our knowledge.  RGGI and its contractors shall not be liable for any errors in the calculations and summaries in this worksheet.  Confirming the accuracy of calculations and summaries used for GHG reporting is the sole responsibility of the Project Sponsor."]

{"sheet":"Dropdown Selections","index":2,"n_rows":5,"n_cols":2,"rows_kept":5,"cut":false,"hidden":true,"merged":[]}
["strata","acreage"]
[1,"<100"]
[2,"100-500"]
[3,"501-5,000"]
[null,">5,000"]